BEGIN:VCALENDAR
VERSION:2.0
PRODID:-//Richland County Fish and Game Club - ECPv6.15.20//NONSGML v1.0//EN
CALSCALE:GREGORIAN
METHOD:PUBLISH
X-WR-CALNAME:Richland County Fish and Game Club
X-ORIGINAL-URL:https://rcfgclub.com
X-WR-CALDESC:Events for Richland County Fish and Game Club
REFRESH-INTERVAL;VALUE=DURATION:PT1H
X-Robots-Tag:noindex
X-PUBLISHED-TTL:PT1H
BEGIN:VTIMEZONE
TZID:America/New_York
BEGIN:DAYLIGHT
TZOFFSETFROM:-0500
TZOFFSETTO:-0400
TZNAME:EDT
DTSTART:20240310T070000
END:DAYLIGHT
BEGIN:STANDARD
TZOFFSETFROM:-0400
TZOFFSETTO:-0500
TZNAME:EST
DTSTART:20241103T060000
END:STANDARD
BEGIN:DAYLIGHT
TZOFFSETFROM:-0500
TZOFFSETTO:-0400
TZNAME:EDT
DTSTART:20250309T070000
END:DAYLIGHT
BEGIN:STANDARD
TZOFFSETFROM:-0400
TZOFFSETTO:-0500
TZNAME:EST
DTSTART:20251102T060000
END:STANDARD
BEGIN:DAYLIGHT
TZOFFSETFROM:-0500
TZOFFSETTO:-0400
TZNAME:EDT
DTSTART:20260308T070000
END:DAYLIGHT
BEGIN:STANDARD
TZOFFSETFROM:-0400
TZOFFSETTO:-0500
TZNAME:EST
DTSTART:20261101T060000
END:STANDARD
BEGIN:DAYLIGHT
TZOFFSETFROM:-0500
TZOFFSETTO:-0400
TZNAME:EDT
DTSTART:20270314T070000
END:DAYLIGHT
BEGIN:STANDARD
TZOFFSETFROM:-0400
TZOFFSETTO:-0500
TZNAME:EST
DTSTART:20271107T060000
END:STANDARD
END:VTIMEZONE
BEGIN:VEVENT
DTSTART;TZID=America/New_York:20260416T193000
DTEND;TZID=America/New_York:20260416T203000
DTSTAMP:20260422T140447
CREATED:20251204T200215Z
LAST-MODIFIED:20251204T200215Z
UID:2081-1776367800-1776371400@rcfgclub.com
SUMMARY:April Board Meeting
DESCRIPTION:
URL:https://rcfgclub.com/event/april-board-meeting-2/
LOCATION:Richland County Fish and Game Club\, 1360 Poth Rd\, Mansfield\, OH\, 44903\, United States
CATEGORIES:Board Meeting
END:VEVENT
BEGIN:VEVENT
DTSTART;TZID=America/New_York:20260319T193000
DTEND;TZID=America/New_York:20260319T203000
DTSTAMP:20260422T140447
CREATED:20251204T135029Z
LAST-MODIFIED:20251204T135029Z
UID:2077-1773948600-1773952200@rcfgclub.com
SUMMARY:March Board Meeting
DESCRIPTION:
URL:https://rcfgclub.com/event/march-board-meeting-2/
LOCATION:Richland County Fish and Game Club\, 1360 Poth Rd\, Mansfield\, OH\, 44903\, United States
CATEGORIES:Board Meeting
END:VEVENT
BEGIN:VEVENT
DTSTART;TZID=America/New_York:20260219T193000
DTEND;TZID=America/New_York:20260219T203000
DTSTAMP:20260422T140447
CREATED:20251204T134708Z
LAST-MODIFIED:20251204T134708Z
UID:2073-1771529400-1771533000@rcfgclub.com
SUMMARY:February Board Meeting
DESCRIPTION:
URL:https://rcfgclub.com/event/february-board-meeting-2/
LOCATION:Richland County Fish and Game Club\, 1360 Poth Rd\, Mansfield\, OH\, 44903\, United States
CATEGORIES:Board Meeting
END:VEVENT
BEGIN:VEVENT
DTSTART;TZID=America/New_York:20260115T193000
DTEND;TZID=America/New_York:20260115T203000
DTSTAMP:20260422T140447
CREATED:20251204T134456Z
LAST-MODIFIED:20251204T134456Z
UID:2069-1768505400-1768509000@rcfgclub.com
SUMMARY:January Board Meeting
DESCRIPTION:
URL:https://rcfgclub.com/event/january-board-meeting-2/
LOCATION:OH
CATEGORIES:Board Meeting
END:VEVENT
BEGIN:VEVENT
DTSTART;TZID=America/New_York:20251218T193000
DTEND;TZID=America/New_York:20251218T203000
DTSTAMP:20260422T140447
CREATED:20250812T111933Z
LAST-MODIFIED:20250826T110214Z
UID:1779-1766086200-1766089800@rcfgclub.com
SUMMARY:December Board Meeting
DESCRIPTION:
URL:https://rcfgclub.com/event/december-board-meeting/
LOCATION:Richland County Fish and Game Club\, 1360 Poth Rd\, Mansfield\, OH\, 44903\, United States
CATEGORIES:Board Meeting,Private
END:VEVENT
BEGIN:VEVENT
DTSTART;TZID=America/New_York:20251120T193000
DTEND;TZID=America/New_York:20251120T203000
DTSTAMP:20260422T140447
CREATED:20250812T111852Z
LAST-MODIFIED:20250826T110229Z
UID:1777-1763667000-1763670600@rcfgclub.com
SUMMARY:November Board Meeting
DESCRIPTION:
URL:https://rcfgclub.com/event/november-board-meeting/
LOCATION:Richland County Fish and Game Club\, 1360 Poth Rd\, Mansfield\, OH\, 44903\, United States
CATEGORIES:Board Meeting,Private
END:VEVENT
BEGIN:VEVENT
DTSTART;TZID=America/New_York:20251016T193000
DTEND;TZID=America/New_York:20251016T203000
DTSTAMP:20260422T140447
CREATED:20250812T111745Z
LAST-MODIFIED:20250826T110300Z
UID:1775-1760643000-1760646600@rcfgclub.com
SUMMARY:October Board Meeting
DESCRIPTION:
URL:https://rcfgclub.com/event/october-board-meeting/
LOCATION:Richland County Fish and Game Club\, 1360 Poth Rd\, Mansfield\, OH\, 44903\, United States
CATEGORIES:Board Meeting,Private
END:VEVENT
BEGIN:VEVENT
DTSTART;TZID=America/New_York:20250918T193000
DTEND;TZID=America/New_York:20250918T203000
DTSTAMP:20260422T140447
CREATED:20250812T111554Z
LAST-MODIFIED:20250826T110322Z
UID:1773-1758223800-1758227400@rcfgclub.com
SUMMARY:September Board Meeting
DESCRIPTION:
URL:https://rcfgclub.com/event/september-board-meeting/
LOCATION:Richland County Fish and Game Club\, 1360 Poth Rd\, Mansfield\, OH\, 44903\, United States
CATEGORIES:Board Meeting
END:VEVENT
BEGIN:VEVENT
DTSTART;TZID=America/New_York:20250821T193000
DTEND;TZID=America/New_York:20250821T203000
DTSTAMP:20260422T140447
CREATED:20250812T111517Z
LAST-MODIFIED:20250813T143733Z
UID:1771-1755804600-1755808200@rcfgclub.com
SUMMARY:August Board Meeting
DESCRIPTION:
URL:https://rcfgclub.com/event/august-board-meeting-2/
LOCATION:Richland County Fish and Game Club\, 1360 Poth Rd\, Mansfield\, OH\, 44903\, United States
CATEGORIES:Board Meeting,Private
END:VEVENT
BEGIN:VEVENT
DTSTART;TZID=America/New_York:20250821T193000
DTEND;TZID=America/New_York:20250821T203000
DTSTAMP:20260422T140447
CREATED:20250512T114421Z
LAST-MODIFIED:20250826T110400Z
UID:1643-1755804600-1755808200@rcfgclub.com
SUMMARY:August Board Meeting
DESCRIPTION:
URL:https://rcfgclub.com/event/august-board-meeting/
LOCATION:Richland County Fish and Game Club\, 1360 Poth Rd\, Mansfield\, OH\, 44903\, United States
CATEGORIES:Board Meeting
END:VEVENT
BEGIN:VEVENT
DTSTART;TZID=America/New_York:20250717T193000
DTEND;TZID=America/New_York:20250717T203000
DTSTAMP:20260422T140447
CREATED:20250512T114342Z
LAST-MODIFIED:20250512T114342Z
UID:1641-1752780600-1752784200@rcfgclub.com
SUMMARY:July Board Meeting
DESCRIPTION:
URL:https://rcfgclub.com/event/july-board-meeting/
LOCATION:Richland County Fish and Game Club\, 1360 Poth Rd\, Mansfield\, OH\, 44903\, United States
CATEGORIES:Board Meeting
END:VEVENT
BEGIN:VEVENT
DTSTART;TZID=America/New_York:20250619T193000
DTEND;TZID=America/New_York:20250619T203000
DTSTAMP:20260422T140447
CREATED:20250512T114303Z
LAST-MODIFIED:20250512T114303Z
UID:1639-1750361400-1750365000@rcfgclub.com
SUMMARY:June Board Meeting
DESCRIPTION:
URL:https://rcfgclub.com/event/june-board-meeting/
LOCATION:Richland County Fish and Game Club\, 1360 Poth Rd\, Mansfield\, OH\, 44903\, United States
CATEGORIES:Board Meeting
END:VEVENT
BEGIN:VEVENT
DTSTART;TZID=America/New_York:20250515T193000
DTEND;TZID=America/New_York:20250515T203000
DTSTAMP:20260422T140447
CREATED:20250204T120550Z
LAST-MODIFIED:20250402T112111Z
UID:1066-1747337400-1747341000@rcfgclub.com
SUMMARY:May Board Meeting
DESCRIPTION:
URL:https://rcfgclub.com/event/may-board-meeting/
LOCATION:Richland County Fish and Game Club\, 1360 Poth Rd\, Mansfield\, OH\, 44903\, United States
CATEGORIES:Board Meeting
END:VEVENT
BEGIN:VEVENT
DTSTART;TZID=America/New_York:20250417T183000
DTEND;TZID=America/New_York:20250417T193000
DTSTAMP:20260422T140447
CREATED:20250204T120347Z
LAST-MODIFIED:20250402T112226Z
UID:1062-1744914600-1744918200@rcfgclub.com
SUMMARY:April Board Meeting
DESCRIPTION:
URL:https://rcfgclub.com/event/april-board-meeting/
LOCATION:Richland County Fish and Game Club\, 1360 Poth Rd\, Mansfield\, OH\, 44903\, United States
CATEGORIES:Board Meeting
END:VEVENT
BEGIN:VEVENT
DTSTART;TZID=America/New_York:20250116T183000
DTEND;TZID=America/New_York:20250116T193000
DTSTAMP:20260422T140447
CREATED:20241223T174814Z
LAST-MODIFIED:20241223T174814Z
UID:840-1737052200-1737055800@rcfgclub.com
SUMMARY:January Board Meeting
DESCRIPTION:
URL:https://rcfgclub.com/event/january-board-meeting/
LOCATION:Richland County Fish and Game Club\, 1360 Poth Rd\, Mansfield\, OH\, 44903\, United States
CATEGORIES:Board Meeting
END:VEVENT
END:VCALENDAR