BEGIN:VCALENDAR
VERSION:2.0
PRODID:-//Richland County Fish and Game Club - ECPv6.15.20//NONSGML v1.0//EN
CALSCALE:GREGORIAN
METHOD:PUBLISH
X-ORIGINAL-URL:https://rcfgclub.com
X-WR-CALDESC:Events for Richland County Fish and Game Club
REFRESH-INTERVAL;VALUE=DURATION:PT1H
X-Robots-Tag:noindex
X-PUBLISHED-TTL:PT1H
BEGIN:VTIMEZONE
TZID:America/New_York
BEGIN:DAYLIGHT
TZOFFSETFROM:-0500
TZOFFSETTO:-0400
TZNAME:EDT
DTSTART:20240310T070000
END:DAYLIGHT
BEGIN:STANDARD
TZOFFSETFROM:-0400
TZOFFSETTO:-0500
TZNAME:EST
DTSTART:20241103T060000
END:STANDARD
BEGIN:DAYLIGHT
TZOFFSETFROM:-0500
TZOFFSETTO:-0400
TZNAME:EDT
DTSTART:20250309T070000
END:DAYLIGHT
BEGIN:STANDARD
TZOFFSETFROM:-0400
TZOFFSETTO:-0500
TZNAME:EST
DTSTART:20251102T060000
END:STANDARD
BEGIN:DAYLIGHT
TZOFFSETFROM:-0500
TZOFFSETTO:-0400
TZNAME:EDT
DTSTART:20260308T070000
END:DAYLIGHT
BEGIN:STANDARD
TZOFFSETFROM:-0400
TZOFFSETTO:-0500
TZNAME:EST
DTSTART:20261101T060000
END:STANDARD
END:VTIMEZONE
BEGIN:VEVENT
DTSTART;TZID=America/New_York:20250903T160000
DTEND;TZID=America/New_York:20250903T190000
DTSTAMP:20260423T041119
CREATED:20250819T113830Z
LAST-MODIFIED:20250819T113830Z
UID:1813-1756915200-1756926000@rcfgclub.com
SUMMARY:Trap Shoot
DESCRIPTION:Whether you’re a seasoned trap shooter or just starting out and eager to learn\, come join us for an unforgettable experience! It’s all about having fun\, improving your skills\, and enjoying great company. We welcome everyone—so bring your enthusiasm and let’s make some memories together!”
URL:https://rcfgclub.com/event/trap-shoot-23/
LOCATION:Richland County Fish and Game Club\, 1360 Poth Rd\, Mansfield\, OH\, 44903\, United States
CATEGORIES:Trap Shoot
END:VEVENT
BEGIN:VEVENT
DTSTART;TZID=America/New_York:20250906T080000
DTEND;TZID=America/New_York:20250906T140000
DTSTAMP:20260423T041119
CREATED:20250207T141811Z
LAST-MODIFIED:20250210T201001Z
UID:1112-1757145600-1757167200@rcfgclub.com
SUMMARY:Sporting Clays
DESCRIPTION:Come out and hone your skills on the challenging course. Open to the Public. \n50 Birds – Members\, Women & youth $25.00 – Public $30.00 \n100 Birds – Members\, Women & youth $35.00 – Public $40.00
URL:https://rcfgclub.com/event/sporting-clays-11/
LOCATION:Richland County Fish and Game Club\, 1360 Poth Rd\, Mansfield\, OH\, 44903\, United States
CATEGORIES:Club events,Sporting Clays
END:VEVENT
BEGIN:VEVENT
DTSTART;TZID=America/New_York:20250906T080000
DTEND;TZID=America/New_York:20250906T140000
DTSTAMP:20260423T041119
CREATED:20250811T125813Z
LAST-MODIFIED:20250811T125813Z
UID:1756-1757145600-1757167200@rcfgclub.com
SUMMARY:RCFG - Youth Sporting Clays Day
DESCRIPTION:
URL:https://rcfgclub.com/event/rcfg-youth-sporting-clays-day/
LOCATION:Richland County Fish and Game Club\, 1360 Poth Rd\, Mansfield\, OH\, 44903\, United States
CATEGORIES:Sporting Clays,Youth Activity
END:VEVENT
BEGIN:VEVENT
DTSTART;TZID=America/New_York:20250910T160000
DTEND;TZID=America/New_York:20250910T190000
DTSTAMP:20260423T041119
CREATED:20250819T113912Z
LAST-MODIFIED:20250819T113912Z
UID:1815-1757520000-1757530800@rcfgclub.com
SUMMARY:Trap Shoot
DESCRIPTION:Whether you’re a seasoned trap shooter or just starting out and eager to learn\, come join us for an unforgettable experience! It’s all about having fun\, improving your skills\, and enjoying great company. We welcome everyone—so bring your enthusiasm and let’s make some memories together!”
URL:https://rcfgclub.com/event/trap-shoot-24/
LOCATION:Richland County Fish and Game Club\, 1360 Poth Rd\, Mansfield\, OH\, 44903\, United States
CATEGORIES:Trap Shoot
END:VEVENT
BEGIN:VEVENT
DTSTART;TZID=America/New_York:20250917T160000
DTEND;TZID=America/New_York:20250917T190000
DTSTAMP:20260423T041119
CREATED:20250819T113947Z
LAST-MODIFIED:20250819T113947Z
UID:1817-1758124800-1758135600@rcfgclub.com
SUMMARY:Trap Shoot
DESCRIPTION:Whether you’re a seasoned trap shooter or just starting out and eager to learn\, come join us for an unforgettable experience! It’s all about having fun\, improving your skills\, and enjoying great company. We welcome everyone—so bring your enthusiasm and let’s make some memories together!”
URL:https://rcfgclub.com/event/trap-shoot-25/
LOCATION:Richland County Fish and Game Club\, 1360 Poth Rd\, Mansfield\, OH\, 44903\, United States
CATEGORIES:Trap Shoot
END:VEVENT
BEGIN:VEVENT
DTSTART;TZID=America/New_York:20250921T080000
DTEND;TZID=America/New_York:20250921T140000
DTSTAMP:20260423T041119
CREATED:20250207T141854Z
LAST-MODIFIED:20250210T200343Z
UID:1114-1758441600-1758463200@rcfgclub.com
SUMMARY:Sporting Clays
DESCRIPTION:Come out and hone your skills on the challenging course. Open to the Public. \n50 Birds – Members\, Women & youth $25.00 – Public $30.00 \n100 Birds – Members\, Women & youth $35.00 – Public $40.00
URL:https://rcfgclub.com/event/sporting-clays-12/
LOCATION:Richland County Fish and Game Club\, 1360 Poth Rd\, Mansfield\, OH\, 44903\, United States
CATEGORIES:Club events,Sporting Clays
END:VEVENT
BEGIN:VEVENT
DTSTART;TZID=America/New_York:20250924T160000
DTEND;TZID=America/New_York:20250924T190000
DTSTAMP:20260423T041119
CREATED:20250819T114024Z
LAST-MODIFIED:20250819T114024Z
UID:1819-1758729600-1758740400@rcfgclub.com
SUMMARY:Trap Shoot
DESCRIPTION:Whether you’re a seasoned trap shooter or just starting out and eager to learn\, come join us for an unforgettable experience! It’s all about having fun\, improving your skills\, and enjoying great company. We welcome everyone—so bring your enthusiasm and let’s make some memories together!”
URL:https://rcfgclub.com/event/trap-shoot-26/
LOCATION:Richland County Fish and Game Club\, 1360 Poth Rd\, Mansfield\, OH\, 44903\, United States
CATEGORIES:Trap Shoot
END:VEVENT
BEGIN:VEVENT
DTSTART;TZID=America/New_York:20250925T190000
DTEND;TZID=America/New_York:20250925T200000
DTSTAMP:20260423T041119
CREATED:20250813T173056Z
LAST-MODIFIED:20250813T173056Z
UID:1798-1758826800-1758830400@rcfgclub.com
SUMMARY:Venture Scouts 22 LR shoot. Ranges will remain open
DESCRIPTION:
URL:https://rcfgclub.com/event/venture-scouts-22-lr-shoot-ranges-will-remain-open/
LOCATION:Richland County Fish and Game Club\, 1360 Poth Rd\, Mansfield\, OH\, 44903\, United States
CATEGORIES:Youth Activity
END:VEVENT
BEGIN:VEVENT
DTSTART;TZID=America/New_York:20250927T080000
DTEND;TZID=America/New_York:20250927T170000
DTSTAMP:20260423T041119
CREATED:20250402T112946Z
LAST-MODIFIED:20250826T110314Z
UID:1395-1758960000-1758992400@rcfgclub.com
SUMMARY:Club Work Day
DESCRIPTION:
URL:https://rcfgclub.com/event/club-work-day-7/
LOCATION:Richland County Fish and Game Club\, 1360 Poth Rd\, Mansfield\, OH\, 44903\, United States
CATEGORIES:Club events,Private,work day
END:VEVENT
END:VCALENDAR