BEGIN:VCALENDAR
VERSION:2.0
PRODID:-//Richland County Fish and Game Club - ECPv6.15.20//NONSGML v1.0//EN
CALSCALE:GREGORIAN
METHOD:PUBLISH
X-WR-CALNAME:Richland County Fish and Game Club
X-ORIGINAL-URL:https://rcfgclub.com
X-WR-CALDESC:Events for Richland County Fish and Game Club
REFRESH-INTERVAL;VALUE=DURATION:PT1H
X-Robots-Tag:noindex
X-PUBLISHED-TTL:PT1H
BEGIN:VTIMEZONE
TZID:America/New_York
BEGIN:DAYLIGHT
TZOFFSETFROM:-0500
TZOFFSETTO:-0400
TZNAME:EDT
DTSTART:20240310T070000
END:DAYLIGHT
BEGIN:STANDARD
TZOFFSETFROM:-0400
TZOFFSETTO:-0500
TZNAME:EST
DTSTART:20241103T060000
END:STANDARD
BEGIN:DAYLIGHT
TZOFFSETFROM:-0500
TZOFFSETTO:-0400
TZNAME:EDT
DTSTART:20250309T070000
END:DAYLIGHT
BEGIN:STANDARD
TZOFFSETFROM:-0400
TZOFFSETTO:-0500
TZNAME:EST
DTSTART:20251102T060000
END:STANDARD
BEGIN:DAYLIGHT
TZOFFSETFROM:-0500
TZOFFSETTO:-0400
TZNAME:EDT
DTSTART:20260308T070000
END:DAYLIGHT
BEGIN:STANDARD
TZOFFSETFROM:-0400
TZOFFSETTO:-0500
TZNAME:EST
DTSTART:20261101T060000
END:STANDARD
END:VTIMEZONE
BEGIN:VEVENT
DTSTART;TZID=America/New_York:20250510T130000
DTEND;TZID=America/New_York:20250510T150000
DTSTAMP:20260423T142909
CREATED:20250224T174900Z
LAST-MODIFIED:20250224T175801Z
UID:1184-1746882000-1746889200@rcfgclub.com
SUMMARY:Fly fishing 101 workshop - on the pond
DESCRIPTION:This course is designed for anyone looking to gain more information about fly fishing\, discover which streams offer the best sport\, or refine their casting skills. It provides a great way to unwind\, relieve stress\, and enjoy the company of fellow anglers. Families seeking an activity to enjoy together will also find it highly adaptable.\nJoin us to enhance your fly-fishing expertise and connect with a community of passionate anglers under the guidance of Ron Thompson.\nThis is a 2 part class 4/12 Classroom will include tackle selection and application from hook\, tippet\, leader\, and line and then rod and reel nomenclature for the beginning fly fisher. 5/10 will be on the pond and will be basic fly casting.\n\nThis is limited to 20 seats. Please call or text Misti Clark to reserve your spot 419-571-3408\nFree for ages – 8 and up
URL:https://rcfgclub.com/event/fly-fishing-101-workshop-on-the-pond/
LOCATION:Richland County Fish and Game Club\, 1360 Poth Rd\, Mansfield\, OH\, 44903\, United States
CATEGORIES:Club events
END:VEVENT
END:VCALENDAR