BEGIN:VCALENDAR
VERSION:2.0
PRODID:-//Richland County Fish and Game Club - ECPv6.15.20//NONSGML v1.0//EN
CALSCALE:GREGORIAN
METHOD:PUBLISH
X-WR-CALNAME:Richland County Fish and Game Club
X-ORIGINAL-URL:https://rcfgclub.com
X-WR-CALDESC:Events for Richland County Fish and Game Club
REFRESH-INTERVAL;VALUE=DURATION:PT1H
X-Robots-Tag:noindex
X-PUBLISHED-TTL:PT1H
BEGIN:VTIMEZONE
TZID:America/New_York
BEGIN:DAYLIGHT
TZOFFSETFROM:-0500
TZOFFSETTO:-0400
TZNAME:EDT
DTSTART:20240310T070000
END:DAYLIGHT
BEGIN:STANDARD
TZOFFSETFROM:-0400
TZOFFSETTO:-0500
TZNAME:EST
DTSTART:20241103T060000
END:STANDARD
BEGIN:DAYLIGHT
TZOFFSETFROM:-0500
TZOFFSETTO:-0400
TZNAME:EDT
DTSTART:20250309T070000
END:DAYLIGHT
BEGIN:STANDARD
TZOFFSETFROM:-0400
TZOFFSETTO:-0500
TZNAME:EST
DTSTART:20251102T060000
END:STANDARD
BEGIN:DAYLIGHT
TZOFFSETFROM:-0500
TZOFFSETTO:-0400
TZNAME:EDT
DTSTART:20260308T070000
END:DAYLIGHT
BEGIN:STANDARD
TZOFFSETFROM:-0400
TZOFFSETTO:-0500
TZNAME:EST
DTSTART:20261101T060000
END:STANDARD
END:VTIMEZONE
BEGIN:VEVENT
DTSTART;TZID=America/New_York:20250531T080000
DTEND;TZID=America/New_York:20250531T120000
DTSTAMP:20260423T124420
CREATED:20250402T112741Z
LAST-MODIFIED:20250520T114538Z
UID:1387-1748678400-1748692800@rcfgclub.com
SUMMARY:Club Work Day
DESCRIPTION:Projects for May 31 Workday: A list of possible projects was discussed. Some of them were:\n\nDoor sweep on trap house door\nStart on fence at pistol range\nOwens property cleanup\nWork on sporting clay stands
URL:https://rcfgclub.com/event/club-work-day-3/
LOCATION:Richland County Fish and Game Club\, 1360 Poth Rd\, Mansfield\, OH\, 44903\, United States
CATEGORIES:Club events,work day
END:VEVENT
END:VCALENDAR