BEGIN:VCALENDAR
VERSION:2.0
PRODID:-//Richland County Fish and Game Club - ECPv6.15.20//NONSGML v1.0//EN
CALSCALE:GREGORIAN
METHOD:PUBLISH
X-WR-CALNAME:Richland County Fish and Game Club
X-ORIGINAL-URL:https://rcfgclub.com
X-WR-CALDESC:Events for Richland County Fish and Game Club
REFRESH-INTERVAL;VALUE=DURATION:PT1H
X-Robots-Tag:noindex
X-PUBLISHED-TTL:PT1H
BEGIN:VTIMEZONE
TZID:America/New_York
BEGIN:DAYLIGHT
TZOFFSETFROM:-0500
TZOFFSETTO:-0400
TZNAME:EDT
DTSTART:20240310T070000
END:DAYLIGHT
BEGIN:STANDARD
TZOFFSETFROM:-0400
TZOFFSETTO:-0500
TZNAME:EST
DTSTART:20241103T060000
END:STANDARD
BEGIN:DAYLIGHT
TZOFFSETFROM:-0500
TZOFFSETTO:-0400
TZNAME:EDT
DTSTART:20250309T070000
END:DAYLIGHT
BEGIN:STANDARD
TZOFFSETFROM:-0400
TZOFFSETTO:-0500
TZNAME:EST
DTSTART:20251102T060000
END:STANDARD
BEGIN:DAYLIGHT
TZOFFSETFROM:-0500
TZOFFSETTO:-0400
TZNAME:EDT
DTSTART:20260308T070000
END:DAYLIGHT
BEGIN:STANDARD
TZOFFSETFROM:-0400
TZOFFSETTO:-0500
TZNAME:EST
DTSTART:20261101T060000
END:STANDARD
END:VTIMEZONE
BEGIN:VEVENT
DTSTART;TZID=America/New_York:20250817T080000
DTEND;TZID=America/New_York:20250817T140000
DTSTAMP:20260423T063947
CREATED:20250207T141730Z
LAST-MODIFIED:20250210T200938Z
UID:1110-1755417600-1755439200@rcfgclub.com
SUMMARY:Sporting Clays
DESCRIPTION:Come out and hone your skills on the challenging course. Open to the Public. \n50 Birds – Members\, Women & youth $25.00 – Public $30.00 \n100 Birds – Members\, Women & youth $35.00 – Public $40.00
URL:https://rcfgclub.com/event/sporting-clays-10/
LOCATION:Richland County Fish and Game Club\, 1360 Poth Rd\, Mansfield\, OH\, 44903\, United States
CATEGORIES:Club events,Sporting Clays
END:VEVENT
END:VCALENDAR