BEGIN:VCALENDAR
VERSION:2.0
PRODID:-//Richland County Fish and Game Club - ECPv6.15.20//NONSGML v1.0//EN
CALSCALE:GREGORIAN
METHOD:PUBLISH
X-WR-CALNAME:Richland County Fish and Game Club
X-ORIGINAL-URL:https://rcfgclub.com
X-WR-CALDESC:Events for Richland County Fish and Game Club
REFRESH-INTERVAL;VALUE=DURATION:PT1H
X-Robots-Tag:noindex
X-PUBLISHED-TTL:PT1H
BEGIN:VTIMEZONE
TZID:America/New_York
BEGIN:DAYLIGHT
TZOFFSETFROM:-0500
TZOFFSETTO:-0400
TZNAME:EDT
DTSTART:20240310T070000
END:DAYLIGHT
BEGIN:STANDARD
TZOFFSETFROM:-0400
TZOFFSETTO:-0500
TZNAME:EST
DTSTART:20241103T060000
END:STANDARD
BEGIN:DAYLIGHT
TZOFFSETFROM:-0500
TZOFFSETTO:-0400
TZNAME:EDT
DTSTART:20250309T070000
END:DAYLIGHT
BEGIN:STANDARD
TZOFFSETFROM:-0400
TZOFFSETTO:-0500
TZNAME:EST
DTSTART:20251102T060000
END:STANDARD
BEGIN:DAYLIGHT
TZOFFSETFROM:-0500
TZOFFSETTO:-0400
TZNAME:EDT
DTSTART:20260308T070000
END:DAYLIGHT
BEGIN:STANDARD
TZOFFSETFROM:-0400
TZOFFSETTO:-0500
TZNAME:EST
DTSTART:20261101T060000
END:STANDARD
END:VTIMEZONE
BEGIN:VEVENT
DTSTART;TZID=America/New_York:20251224T173000
DTEND;TZID=America/New_York:20251224T193000
DTSTAMP:20260422T153909
CREATED:20251204T133416Z
LAST-MODIFIED:20251204T133416Z
UID:2047-1766597400-1766604600@rcfgclub.com
SUMMARY:Trap Shoot
DESCRIPTION:
URL:https://rcfgclub.com/event/trap-shoot-39/
LOCATION:Richland County Fish and Game Club\, 1360 Poth Rd\, Mansfield\, OH\, 44903\, United States
CATEGORIES:Trap Shoot
END:VEVENT
BEGIN:VEVENT
DTSTART;TZID=America/New_York:20251217T193000
DTEND;TZID=America/New_York:20251217T193000
DTSTAMP:20260422T153909
CREATED:20251204T133314Z
LAST-MODIFIED:20251204T133314Z
UID:2045-1765999800-1765999800@rcfgclub.com
SUMMARY:Trap Shoot
DESCRIPTION:
URL:https://rcfgclub.com/event/trap-shoot-38/
LOCATION:Richland County Fish and Game Club\, 1360 Poth Rd\, Mansfield\, OH\, 44903\, United States
CATEGORIES:Trap Shoot
END:VEVENT
BEGIN:VEVENT
DTSTART;TZID=America/New_York:20251210T173000
DTEND;TZID=America/New_York:20251210T193000
DTSTAMP:20260422T153909
CREATED:20251204T133220Z
LAST-MODIFIED:20251204T133220Z
UID:2043-1765387800-1765395000@rcfgclub.com
SUMMARY:Trap Shoot
DESCRIPTION:
URL:https://rcfgclub.com/event/trap-shoot-37/
LOCATION:Richland County Fish and Game Club\, 1360 Poth Rd\, Mansfield\, OH\, 44903\, United States
CATEGORIES:Trap Shoot
END:VEVENT
BEGIN:VEVENT
DTSTART;TZID=America/New_York:20251203T173000
DTEND;TZID=America/New_York:20251203T193000
DTSTAMP:20260422T153909
CREATED:20251204T133119Z
LAST-MODIFIED:20251204T133119Z
UID:2041-1764783000-1764790200@rcfgclub.com
SUMMARY:Trap Shoot
DESCRIPTION:
URL:https://rcfgclub.com/event/trap-shoot-36/
LOCATION:Richland County Fish and Game Club\, 1360 Poth Rd\, Mansfield\, OH\, 44903\, United States
CATEGORIES:Trap Shoot
END:VEVENT
BEGIN:VEVENT
DTSTART;TZID=America/New_York:20251126T173000
DTEND;TZID=America/New_York:20251126T193000
DTSTAMP:20260422T153909
CREATED:20251023T112943Z
LAST-MODIFIED:20251023T112943Z
UID:1973-1764178200-1764185400@rcfgclub.com
SUMMARY:Trap Shoot
DESCRIPTION:
URL:https://rcfgclub.com/event/trap-shoot-35/
LOCATION:Richland County Fish and Game Club\, 1360 Poth Rd\, Mansfield\, OH\, 44903\, United States
CATEGORIES:Trap Shoot
END:VEVENT
BEGIN:VEVENT
DTSTART;TZID=America/New_York:20251119T173000
DTEND;TZID=America/New_York:20251119T193000
DTSTAMP:20260422T153909
CREATED:20251023T112849Z
LAST-MODIFIED:20251023T112849Z
UID:1971-1763573400-1763580600@rcfgclub.com
SUMMARY:Trap Shoot
DESCRIPTION:
URL:https://rcfgclub.com/event/trap-shoot-34/
LOCATION:Richland County Fish and Game Club\, 1360 Poth Rd\, Mansfield\, OH\, 44903\, United States
CATEGORIES:Trap Shoot
END:VEVENT
BEGIN:VEVENT
DTSTART;TZID=America/New_York:20251112T173000
DTEND;TZID=America/New_York:20251112T193000
DTSTAMP:20260422T153909
CREATED:20251023T112758Z
LAST-MODIFIED:20251023T112758Z
UID:1969-1762968600-1762975800@rcfgclub.com
SUMMARY:Trap Shoot
DESCRIPTION:
URL:https://rcfgclub.com/event/trap-shoot-33/
LOCATION:Richland County Fish and Game Club\, 1360 Poth Rd\, Mansfield\, OH\, 44903\, United States
CATEGORIES:Trap Shoot
END:VEVENT
BEGIN:VEVENT
DTSTART;TZID=America/New_York:20251105T173000
DTEND;TZID=America/New_York:20251105T193000
DTSTAMP:20260422T153909
CREATED:20251023T112441Z
LAST-MODIFIED:20251023T112441Z
UID:1967-1762363800-1762371000@rcfgclub.com
SUMMARY:Trap Shoot
DESCRIPTION:
URL:https://rcfgclub.com/event/trap-shoot-32/
LOCATION:Richland County Fish and Game Club\, 1360 Poth Rd\, Mansfield\, OH\, 44903\, United States
CATEGORIES:Trap Shoot
END:VEVENT
BEGIN:VEVENT
DTSTART;TZID=America/New_York:20251029T160000
DTEND;TZID=America/New_York:20251029T190000
DTSTAMP:20260422T153909
CREATED:20250819T114322Z
LAST-MODIFIED:20250819T114322Z
UID:1829-1761753600-1761764400@rcfgclub.com
SUMMARY:Trap Shoot
DESCRIPTION:Last one of the season \nWhether you’re a seasoned trap shooter or just starting out and eager to learn\, come join us for an unforgettable experience! It’s all about having fun\, improving your skills\, and enjoying great company. We welcome everyone—so bring your enthusiasm and let’s make some memories together!”
URL:https://rcfgclub.com/event/trap-shoot-31/
LOCATION:Richland County Fish and Game Club\, 1360 Poth Rd\, Mansfield\, OH\, 44903\, United States
CATEGORIES:Trap Shoot
END:VEVENT
BEGIN:VEVENT
DTSTART;TZID=America/New_York:20251022T160000
DTEND;TZID=America/New_York:20251022T190000
DTSTAMP:20260422T153909
CREATED:20250819T114239Z
LAST-MODIFIED:20250819T114239Z
UID:1827-1761148800-1761159600@rcfgclub.com
SUMMARY:Trap Shoot
DESCRIPTION:Whether you’re a seasoned trap shooter or just starting out and eager to learn\, come join us for an unforgettable experience! It’s all about having fun\, improving your skills\, and enjoying great company. We welcome everyone—so bring your enthusiasm and let’s make some memories together!”
URL:https://rcfgclub.com/event/trap-shoot-30/
LOCATION:Richland County Fish and Game Club\, 1360 Poth Rd\, Mansfield\, OH\, 44903\, United States
CATEGORIES:Trap Shoot
END:VEVENT
BEGIN:VEVENT
DTSTART;TZID=America/New_York:20251015T160000
DTEND;TZID=America/New_York:20251015T190000
DTSTAMP:20260422T153909
CREATED:20250819T114203Z
LAST-MODIFIED:20250819T114203Z
UID:1825-1760544000-1760554800@rcfgclub.com
SUMMARY:Trap Shoot
DESCRIPTION:Whether you’re a seasoned trap shooter or just starting out and eager to learn\, come join us for an unforgettable experience! It’s all about having fun\, improving your skills\, and enjoying great company. We welcome everyone—so bring your enthusiasm and let’s make some memories together!”
URL:https://rcfgclub.com/event/trap-shoot-29/
LOCATION:Richland County Fish and Game Club\, 1360 Poth Rd\, Mansfield\, OH\, 44903\, United States
CATEGORIES:Trap Shoot
END:VEVENT
BEGIN:VEVENT
DTSTART;TZID=America/New_York:20251008T160000
DTEND;TZID=America/New_York:20251008T190000
DTSTAMP:20260422T153909
CREATED:20250819T114134Z
LAST-MODIFIED:20250819T114134Z
UID:1823-1759939200-1759950000@rcfgclub.com
SUMMARY:Trap Shoot
DESCRIPTION:Whether you’re a seasoned trap shooter or just starting out and eager to learn\, come join us for an unforgettable experience! It’s all about having fun\, improving your skills\, and enjoying great company. We welcome everyone—so bring your enthusiasm and let’s make some memories together!”
URL:https://rcfgclub.com/event/trap-shoot-28/
LOCATION:Richland County Fish and Game Club\, 1360 Poth Rd\, Mansfield\, OH\, 44903\, United States
CATEGORIES:Trap Shoot
END:VEVENT
BEGIN:VEVENT
DTSTART;TZID=America/New_York:20251001T160000
DTEND;TZID=America/New_York:20251001T190000
DTSTAMP:20260422T153909
CREATED:20250819T114055Z
LAST-MODIFIED:20250819T114055Z
UID:1821-1759334400-1759345200@rcfgclub.com
SUMMARY:Trap Shoot
DESCRIPTION:Whether you’re a seasoned trap shooter or just starting out and eager to learn\, come join us for an unforgettable experience! It’s all about having fun\, improving your skills\, and enjoying great company. We welcome everyone—so bring your enthusiasm and let’s make some memories together!”
URL:https://rcfgclub.com/event/trap-shoot-27/
LOCATION:Richland County Fish and Game Club\, 1360 Poth Rd\, Mansfield\, OH\, 44903\, United States
CATEGORIES:Trap Shoot
END:VEVENT
BEGIN:VEVENT
DTSTART;TZID=America/New_York:20250924T160000
DTEND;TZID=America/New_York:20250924T190000
DTSTAMP:20260422T153909
CREATED:20250819T114024Z
LAST-MODIFIED:20250819T114024Z
UID:1819-1758729600-1758740400@rcfgclub.com
SUMMARY:Trap Shoot
DESCRIPTION:Whether you’re a seasoned trap shooter or just starting out and eager to learn\, come join us for an unforgettable experience! It’s all about having fun\, improving your skills\, and enjoying great company. We welcome everyone—so bring your enthusiasm and let’s make some memories together!”
URL:https://rcfgclub.com/event/trap-shoot-26/
LOCATION:Richland County Fish and Game Club\, 1360 Poth Rd\, Mansfield\, OH\, 44903\, United States
CATEGORIES:Trap Shoot
END:VEVENT
BEGIN:VEVENT
DTSTART;TZID=America/New_York:20250917T160000
DTEND;TZID=America/New_York:20250917T190000
DTSTAMP:20260422T153909
CREATED:20250819T113947Z
LAST-MODIFIED:20250819T113947Z
UID:1817-1758124800-1758135600@rcfgclub.com
SUMMARY:Trap Shoot
DESCRIPTION:Whether you’re a seasoned trap shooter or just starting out and eager to learn\, come join us for an unforgettable experience! It’s all about having fun\, improving your skills\, and enjoying great company. We welcome everyone—so bring your enthusiasm and let’s make some memories together!”
URL:https://rcfgclub.com/event/trap-shoot-25/
LOCATION:Richland County Fish and Game Club\, 1360 Poth Rd\, Mansfield\, OH\, 44903\, United States
CATEGORIES:Trap Shoot
END:VEVENT
BEGIN:VEVENT
DTSTART;TZID=America/New_York:20250910T160000
DTEND;TZID=America/New_York:20250910T190000
DTSTAMP:20260422T153909
CREATED:20250819T113912Z
LAST-MODIFIED:20250819T113912Z
UID:1815-1757520000-1757530800@rcfgclub.com
SUMMARY:Trap Shoot
DESCRIPTION:Whether you’re a seasoned trap shooter or just starting out and eager to learn\, come join us for an unforgettable experience! It’s all about having fun\, improving your skills\, and enjoying great company. We welcome everyone—so bring your enthusiasm and let’s make some memories together!”
URL:https://rcfgclub.com/event/trap-shoot-24/
LOCATION:Richland County Fish and Game Club\, 1360 Poth Rd\, Mansfield\, OH\, 44903\, United States
CATEGORIES:Trap Shoot
END:VEVENT
BEGIN:VEVENT
DTSTART;TZID=America/New_York:20250903T160000
DTEND;TZID=America/New_York:20250903T190000
DTSTAMP:20260422T153909
CREATED:20250819T113830Z
LAST-MODIFIED:20250819T113830Z
UID:1813-1756915200-1756926000@rcfgclub.com
SUMMARY:Trap Shoot
DESCRIPTION:Whether you’re a seasoned trap shooter or just starting out and eager to learn\, come join us for an unforgettable experience! It’s all about having fun\, improving your skills\, and enjoying great company. We welcome everyone—so bring your enthusiasm and let’s make some memories together!”
URL:https://rcfgclub.com/event/trap-shoot-23/
LOCATION:Richland County Fish and Game Club\, 1360 Poth Rd\, Mansfield\, OH\, 44903\, United States
CATEGORIES:Trap Shoot
END:VEVENT
BEGIN:VEVENT
DTSTART;TZID=America/New_York:20250827T160000
DTEND;TZID=America/New_York:20250827T190000
DTSTAMP:20260422T153909
CREATED:20250402T121037Z
LAST-MODIFIED:20250402T121037Z
UID:1445-1756310400-1756321200@rcfgclub.com
SUMMARY:Trap Shoot
DESCRIPTION:Whether you’re a seasoned trap shooter or just starting out and eager to learn\, come join us for an unforgettable experience! It’s all about having fun\, improving your skills\, and enjoying great company. We welcome everyone—so bring your enthusiasm and let’s make some memories together!”
URL:https://rcfgclub.com/event/trap-shoot-22/
LOCATION:Richland County Fish and Game Club\, 1360 Poth Rd\, Mansfield\, OH\, 44903\, United States
CATEGORIES:Trap Shoot
END:VEVENT
BEGIN:VEVENT
DTSTART;TZID=America/New_York:20250820T160000
DTEND;TZID=America/New_York:20250820T190000
DTSTAMP:20260422T153909
CREATED:20250402T121002Z
LAST-MODIFIED:20250402T121002Z
UID:1443-1755705600-1755716400@rcfgclub.com
SUMMARY:Trap Shoot
DESCRIPTION:Whether you’re a seasoned trap shooter or just starting out and eager to learn\, come join us for an unforgettable experience! It’s all about having fun\, improving your skills\, and enjoying great company. We welcome everyone—so bring your enthusiasm and let’s make some memories together!”
URL:https://rcfgclub.com/event/trap-shoot-21/
LOCATION:Richland County Fish and Game Club\, 1360 Poth Rd\, Mansfield\, OH\, 44903\, United States
CATEGORIES:Trap Shoot
END:VEVENT
BEGIN:VEVENT
DTSTART;TZID=America/New_York:20250813T160000
DTEND;TZID=America/New_York:20250813T190000
DTSTAMP:20260422T153909
CREATED:20250402T120919Z
LAST-MODIFIED:20250402T120919Z
UID:1441-1755100800-1755111600@rcfgclub.com
SUMMARY:Trap Shoot
DESCRIPTION:Whether you’re a seasoned trap shooter or just starting out and eager to learn\, come join us for an unforgettable experience! It’s all about having fun\, improving your skills\, and enjoying great company. We welcome everyone—so bring your enthusiasm and let’s make some memories together!”
URL:https://rcfgclub.com/event/trap-shoot-20/
LOCATION:Richland County Fish and Game Club\, 1360 Poth Rd\, Mansfield\, OH\, 44903\, United States
CATEGORIES:Trap Shoot
END:VEVENT
BEGIN:VEVENT
DTSTART;TZID=America/New_York:20250806T160000
DTEND;TZID=America/New_York:20250806T190000
DTSTAMP:20260422T153909
CREATED:20250402T120836Z
LAST-MODIFIED:20250402T120836Z
UID:1439-1754496000-1754506800@rcfgclub.com
SUMMARY:Trap Shoot
DESCRIPTION:Whether you’re a seasoned trap shooter or just starting out and eager to learn\, come join us for an unforgettable experience! It’s all about having fun\, improving your skills\, and enjoying great company. We welcome everyone—so bring your enthusiasm and let’s make some memories together!”
URL:https://rcfgclub.com/event/trap-shoot-19/
LOCATION:Richland County Fish and Game Club\, 1360 Poth Rd\, Mansfield\, OH\, 44903\, United States
CATEGORIES:Trap Shoot
END:VEVENT
BEGIN:VEVENT
DTSTART;TZID=America/New_York:20250730T160000
DTEND;TZID=America/New_York:20250730T190000
DTSTAMP:20260422T153909
CREATED:20250402T120754Z
LAST-MODIFIED:20250402T120754Z
UID:1437-1753891200-1753902000@rcfgclub.com
SUMMARY:Trap Shoot
DESCRIPTION:Whether you’re a seasoned trap shooter or just starting out and eager to learn\, come join us for an unforgettable experience! It’s all about having fun\, improving your skills\, and enjoying great company. We welcome everyone—so bring your enthusiasm and let’s make some memories together!”
URL:https://rcfgclub.com/event/trap-shoot-18/
LOCATION:Richland County Fish and Game Club\, 1360 Poth Rd\, Mansfield\, OH\, 44903\, United States
CATEGORIES:Trap Shoot
END:VEVENT
BEGIN:VEVENT
DTSTART;TZID=America/New_York:20250723T160000
DTEND;TZID=America/New_York:20250723T190000
DTSTAMP:20260422T153909
CREATED:20250402T120719Z
LAST-MODIFIED:20250402T120719Z
UID:1435-1753286400-1753297200@rcfgclub.com
SUMMARY:Trap Shoot
DESCRIPTION:Whether you’re a seasoned trap shooter or just starting out and eager to learn\, come join us for an unforgettable experience! It’s all about having fun\, improving your skills\, and enjoying great company. We welcome everyone—so bring your enthusiasm and let’s make some memories together!”
URL:https://rcfgclub.com/event/trap-shoot-17/
LOCATION:Richland County Fish and Game Club\, 1360 Poth Rd\, Mansfield\, OH\, 44903\, United States
CATEGORIES:Trap Shoot
END:VEVENT
BEGIN:VEVENT
DTSTART;TZID=America/New_York:20250716T160000
DTEND;TZID=America/New_York:20250716T190000
DTSTAMP:20260422T153909
CREATED:20250402T120645Z
LAST-MODIFIED:20250402T120645Z
UID:1433-1752681600-1752692400@rcfgclub.com
SUMMARY:Trap Shoot
DESCRIPTION:Whether you’re a seasoned trap shooter or just starting out and eager to learn\, come join us for an unforgettable experience! It’s all about having fun\, improving your skills\, and enjoying great company. We welcome everyone—so bring your enthusiasm and let’s make some memories together!”
URL:https://rcfgclub.com/event/trap-shoot-16/
LOCATION:Richland County Fish and Game Club\, 1360 Poth Rd\, Mansfield\, OH\, 44903\, United States
CATEGORIES:Trap Shoot
END:VEVENT
BEGIN:VEVENT
DTSTART;TZID=America/New_York:20250709T160000
DTEND;TZID=America/New_York:20250709T190000
DTSTAMP:20260422T153909
CREATED:20250402T120613Z
LAST-MODIFIED:20250402T120613Z
UID:1431-1752076800-1752087600@rcfgclub.com
SUMMARY:Trap Shoot
DESCRIPTION:Whether you’re a seasoned trap shooter or just starting out and eager to learn\, come join us for an unforgettable experience! It’s all about having fun\, improving your skills\, and enjoying great company. We welcome everyone—so bring your enthusiasm and let’s make some memories together!”
URL:https://rcfgclub.com/event/trap-shoot-15/
LOCATION:Richland County Fish and Game Club\, 1360 Poth Rd\, Mansfield\, OH\, 44903\, United States
CATEGORIES:Trap Shoot
END:VEVENT
BEGIN:VEVENT
DTSTART;TZID=America/New_York:20250702T160000
DTEND;TZID=America/New_York:20250702T190000
DTSTAMP:20260422T153909
CREATED:20250402T120535Z
LAST-MODIFIED:20250402T120535Z
UID:1429-1751472000-1751482800@rcfgclub.com
SUMMARY:Trap Shoot
DESCRIPTION:Whether you’re a seasoned trap shooter or just starting out and eager to learn\, come join us for an unforgettable experience! It’s all about having fun\, improving your skills\, and enjoying great company. We welcome everyone—so bring your enthusiasm and let’s make some memories together!”
URL:https://rcfgclub.com/event/trap-shoot-14/
LOCATION:Richland County Fish and Game Club\, 1360 Poth Rd\, Mansfield\, OH\, 44903\, United States
CATEGORIES:Trap Shoot
END:VEVENT
BEGIN:VEVENT
DTSTART;TZID=America/New_York:20250625T160000
DTEND;TZID=America/New_York:20250625T190000
DTSTAMP:20260422T153909
CREATED:20250402T120450Z
LAST-MODIFIED:20250402T120450Z
UID:1427-1750867200-1750878000@rcfgclub.com
SUMMARY:Trap Shoot
DESCRIPTION:Whether you’re a seasoned trap shooter or just starting out and eager to learn\, come join us for an unforgettable experience! It’s all about having fun\, improving your skills\, and enjoying great company. We welcome everyone—so bring your enthusiasm and let’s make some memories together!”
URL:https://rcfgclub.com/event/trap-shoot-13/
LOCATION:Richland County Fish and Game Club\, 1360 Poth Rd\, Mansfield\, OH\, 44903\, United States
CATEGORIES:Trap Shoot
END:VEVENT
BEGIN:VEVENT
DTSTART;TZID=America/New_York:20250618T160000
DTEND;TZID=America/New_York:20250618T190000
DTSTAMP:20260422T153909
CREATED:20250402T120414Z
LAST-MODIFIED:20250402T120414Z
UID:1425-1750262400-1750273200@rcfgclub.com
SUMMARY:Trap Shoot
DESCRIPTION:Whether you’re a seasoned trap shooter or just starting out and eager to learn\, come join us for an unforgettable experience! It’s all about having fun\, improving your skills\, and enjoying great company. We welcome everyone—so bring your enthusiasm and let’s make some memories together!”
URL:https://rcfgclub.com/event/trap-shoot-12/
LOCATION:Richland County Fish and Game Club\, 1360 Poth Rd\, Mansfield\, OH\, 44903\, United States
CATEGORIES:Trap Shoot
END:VEVENT
BEGIN:VEVENT
DTSTART;TZID=America/New_York:20250611T160000
DTEND;TZID=America/New_York:20250611T190000
DTSTAMP:20260422T153909
CREATED:20250402T120338Z
LAST-MODIFIED:20250402T120338Z
UID:1423-1749657600-1749668400@rcfgclub.com
SUMMARY:Trap Shoot
DESCRIPTION:Whether you’re a seasoned trap shooter or just starting out and eager to learn\, come join us for an unforgettable experience! It’s all about having fun\, improving your skills\, and enjoying great company. We welcome everyone—so bring your enthusiasm and let’s make some memories together!”
URL:https://rcfgclub.com/event/trap-shoot-11/
LOCATION:Richland County Fish and Game Club\, 1360 Poth Rd\, Mansfield\, OH\, 44903\, United States
CATEGORIES:Trap Shoot
END:VEVENT
BEGIN:VEVENT
DTSTART;TZID=America/New_York:20250604T160000
DTEND;TZID=America/New_York:20250604T190000
DTSTAMP:20260422T153909
CREATED:20250402T120302Z
LAST-MODIFIED:20250402T120302Z
UID:1421-1749052800-1749063600@rcfgclub.com
SUMMARY:Trap Shoot
DESCRIPTION:Whether you’re a seasoned trap shooter or just starting out and eager to learn\, come join us for an unforgettable experience! It’s all about having fun\, improving your skills\, and enjoying great company. We welcome everyone—so bring your enthusiasm and let’s make some memories together!”
URL:https://rcfgclub.com/event/trap-shoot-10/
LOCATION:Richland County Fish and Game Club\, 1360 Poth Rd\, Mansfield\, OH\, 44903\, United States
CATEGORIES:Trap Shoot
END:VEVENT
END:VCALENDAR