BEGIN:VCALENDAR
VERSION:2.0
PRODID:-//Richland County Fish and Game Club - ECPv6.15.20//NONSGML v1.0//EN
CALSCALE:GREGORIAN
METHOD:PUBLISH
X-WR-CALNAME:Richland County Fish and Game Club
X-ORIGINAL-URL:https://rcfgclub.com
X-WR-CALDESC:Events for Richland County Fish and Game Club
REFRESH-INTERVAL;VALUE=DURATION:PT1H
X-Robots-Tag:noindex
X-PUBLISHED-TTL:PT1H
BEGIN:VTIMEZONE
TZID:America/New_York
BEGIN:DAYLIGHT
TZOFFSETFROM:-0500
TZOFFSETTO:-0400
TZNAME:EDT
DTSTART:20240310T070000
END:DAYLIGHT
BEGIN:STANDARD
TZOFFSETFROM:-0400
TZOFFSETTO:-0500
TZNAME:EST
DTSTART:20241103T060000
END:STANDARD
BEGIN:DAYLIGHT
TZOFFSETFROM:-0500
TZOFFSETTO:-0400
TZNAME:EDT
DTSTART:20250309T070000
END:DAYLIGHT
BEGIN:STANDARD
TZOFFSETFROM:-0400
TZOFFSETTO:-0500
TZNAME:EST
DTSTART:20251102T060000
END:STANDARD
BEGIN:DAYLIGHT
TZOFFSETFROM:-0500
TZOFFSETTO:-0400
TZNAME:EDT
DTSTART:20260308T070000
END:DAYLIGHT
BEGIN:STANDARD
TZOFFSETFROM:-0400
TZOFFSETTO:-0500
TZNAME:EST
DTSTART:20261101T060000
END:STANDARD
END:VTIMEZONE
BEGIN:VEVENT
DTSTART;TZID=America/New_York:20250423T160000
DTEND;TZID=America/New_York:20250423T190000
DTSTAMP:20260422T202653
CREATED:20250402T115809Z
LAST-MODIFIED:20250402T115809Z
UID:1409-1745424000-1745434800@rcfgclub.com
SUMMARY:Trap Shoot
DESCRIPTION:Whether you’re a seasoned trap shooter or just starting out and eager to learn\, come join us for an unforgettable experience! It’s all about having fun\, improving your skills\, and enjoying great company. We welcome everyone—so bring your enthusiasm and let’s make some memories together!”
URL:https://rcfgclub.com/event/trap-shoot-4/
LOCATION:Richland County Fish and Game Club\, 1360 Poth Rd\, Mansfield\, OH\, 44903\, United States
CATEGORIES:Trap Shoot
END:VEVENT
BEGIN:VEVENT
DTSTART;TZID=America/New_York:20250409T160000
DTEND;TZID=America/New_York:20250409T190000
DTSTAMP:20260422T202653
CREATED:20250402T115634Z
LAST-MODIFIED:20250402T115634Z
UID:1404-1744214400-1744225200@rcfgclub.com
SUMMARY:Trap Shoot
DESCRIPTION:Whether you’re a seasoned trap shooter or just starting out and eager to learn\, come join us for an unforgettable experience! It’s all about having fun\, improving your skills\, and enjoying great company. We welcome everyone—so bring your enthusiasm and let’s make some memories together!”
URL:https://rcfgclub.com/event/trap-shoot-2/
LOCATION:Richland County Fish and Game Club\, 1360 Poth Rd\, Mansfield\, OH\, 44903\, United States
CATEGORIES:Trap Shoot
END:VEVENT
BEGIN:VEVENT
DTSTART;TZID=America/New_York:20250402T160000
DTEND;TZID=America/New_York:20250402T190000
DTSTAMP:20260422T202653
CREATED:20250402T115556Z
LAST-MODIFIED:20250402T115556Z
UID:1402-1743609600-1743620400@rcfgclub.com
SUMMARY:Trap Shoot
DESCRIPTION:Whether you’re a seasoned trap shooter or just starting out and eager to learn\, come join us for an unforgettable experience! It’s all about having fun\, improving your skills\, and enjoying great company. We welcome everyone—so bring your enthusiasm and let’s make some memories together!”
URL:https://rcfgclub.com/event/trap-shoot/
LOCATION:Richland County Fish and Game Club\, 1360 Poth Rd\, Mansfield\, OH\, 44903\, United States
CATEGORIES:Trap Shoot
END:VEVENT
END:VCALENDAR