BEGIN:VCALENDAR
VERSION:2.0
PRODID:-//Richland County Fish and Game Club - ECPv6.15.20//NONSGML v1.0//EN
CALSCALE:GREGORIAN
METHOD:PUBLISH
X-WR-CALNAME:Richland County Fish and Game Club
X-ORIGINAL-URL:https://rcfgclub.com
X-WR-CALDESC:Events for Richland County Fish and Game Club
REFRESH-INTERVAL;VALUE=DURATION:PT1H
X-Robots-Tag:noindex
X-PUBLISHED-TTL:PT1H
BEGIN:VTIMEZONE
TZID:America/New_York
BEGIN:DAYLIGHT
TZOFFSETFROM:-0500
TZOFFSETTO:-0400
TZNAME:EDT
DTSTART:20250309T070000
END:DAYLIGHT
BEGIN:STANDARD
TZOFFSETFROM:-0400
TZOFFSETTO:-0500
TZNAME:EST
DTSTART:20251102T060000
END:STANDARD
BEGIN:DAYLIGHT
TZOFFSETFROM:-0500
TZOFFSETTO:-0400
TZNAME:EDT
DTSTART:20260308T070000
END:DAYLIGHT
BEGIN:STANDARD
TZOFFSETFROM:-0400
TZOFFSETTO:-0500
TZNAME:EST
DTSTART:20261101T060000
END:STANDARD
BEGIN:DAYLIGHT
TZOFFSETFROM:-0500
TZOFFSETTO:-0400
TZNAME:EDT
DTSTART:20270314T070000
END:DAYLIGHT
BEGIN:STANDARD
TZOFFSETFROM:-0400
TZOFFSETTO:-0500
TZNAME:EST
DTSTART:20271107T060000
END:STANDARD
END:VTIMEZONE
BEGIN:VEVENT
DTSTART;TZID=America/New_York:20260429T160000
DTEND;TZID=America/New_York:20260429T190000
DTSTAMP:20260422T185001
CREATED:20260331T124209Z
LAST-MODIFIED:20260331T124209Z
UID:2498-1777478400-1777489200@rcfgclub.com
SUMMARY:Poth Road Trap Shoot
DESCRIPTION:
URL:https://rcfgclub.com/event/poth-road-trap-shoot-5/
LOCATION:Richland County Fish and Game Club\, 1360 Poth Rd\, Mansfield\, OH\, 44903\, United States
CATEGORIES:Trap Shoot
END:VEVENT
BEGIN:VEVENT
DTSTART;TZID=America/New_York:20260425T080000
DTEND;TZID=America/New_York:20260425T120000
DTSTAMP:20260422T185001
CREATED:20260309T143602Z
LAST-MODIFIED:20260309T143602Z
UID:2408-1777104000-1777118400@rcfgclub.com
SUMMARY:Club Work Day
DESCRIPTION:
URL:https://rcfgclub.com/event/club-work-day-9/
LOCATION:Richland County Fish and Game Club\, 1360 Poth Rd\, Mansfield\, OH\, 44903\, United States
CATEGORIES:work day
END:VEVENT
BEGIN:VEVENT
DTSTART;TZID=America/New_York:20260422T160000
DTEND;TZID=America/New_York:20260422T190000
DTSTAMP:20260422T185001
CREATED:20260331T124139Z
LAST-MODIFIED:20260331T124139Z
UID:2496-1776873600-1776884400@rcfgclub.com
SUMMARY:Poth Road Trap Shoot
DESCRIPTION:
URL:https://rcfgclub.com/event/poth-road-trap-shoot-4/
LOCATION:Richland County Fish and Game Club\, 1360 Poth Rd\, Mansfield\, OH\, 44903\, United States
CATEGORIES:Trap Shoot
END:VEVENT
BEGIN:VEVENT
DTSTART;TZID=America/New_York:20260419T080000
DTEND;TZID=America/New_York:20260419T140000
DTSTAMP:20260422T185001
CREATED:20260331T123151Z
LAST-MODIFIED:20260331T123151Z
UID:2483-1776585600-1776607200@rcfgclub.com
SUMMARY:Women and Kids Sporting Clays
DESCRIPTION:Shells provided free to Women and kids
URL:https://rcfgclub.com/event/women-and-kids-sporting-clays/
LOCATION:Richland County Fish and Game Club\, 1360 Poth Rd\, Mansfield\, OH\, 44903\, United States
CATEGORIES:Sporting Clays
END:VEVENT
BEGIN:VEVENT
DTSTART;TZID=America/New_York:20260419T080000
DTEND;TZID=America/New_York:20260419T140000
DTSTAMP:20260422T185001
CREATED:20260220T174015Z
LAST-MODIFIED:20260220T174015Z
UID:2340-1776585600-1776607200@rcfgclub.com
SUMMARY:Richland County Fish and Game Sporting Clays
DESCRIPTION:Sporting clay dates flyer2026
URL:https://rcfgclub.com/event/richland-county-fish-and-game-sporting-clays-2/
LOCATION:Richland County Fish and Game Club\, 1360 Poth Rd\, Mansfield\, OH\, 44903\, United States
CATEGORIES:Sporting Clays
END:VEVENT
BEGIN:VEVENT
DTSTART;TZID=America/New_York:20260416T193000
DTEND;TZID=America/New_York:20260416T203000
DTSTAMP:20260422T185001
CREATED:20251204T200215Z
LAST-MODIFIED:20251204T200215Z
UID:2081-1776367800-1776371400@rcfgclub.com
SUMMARY:April Board Meeting
DESCRIPTION:
URL:https://rcfgclub.com/event/april-board-meeting-2/
LOCATION:Richland County Fish and Game Club\, 1360 Poth Rd\, Mansfield\, OH\, 44903\, United States
CATEGORIES:Board Meeting
END:VEVENT
BEGIN:VEVENT
DTSTART;TZID=America/New_York:20260415T160000
DTEND;TZID=America/New_York:20260415T190000
DTSTAMP:20260422T185001
CREATED:20260331T124112Z
LAST-MODIFIED:20260331T124112Z
UID:2494-1776268800-1776279600@rcfgclub.com
SUMMARY:Poth Road Trap Shoot
DESCRIPTION:
URL:https://rcfgclub.com/event/poth-road-trap-shoot-3/
LOCATION:Richland County Fish and Game Club\, 1360 Poth Rd\, Mansfield\, OH\, 44903\, United States
CATEGORIES:Trap Shoot
END:VEVENT
BEGIN:VEVENT
DTSTART;TZID=America/New_York:20260408T160000
DTEND;TZID=America/New_York:20260408T190000
DTSTAMP:20260422T185001
CREATED:20260331T124046Z
LAST-MODIFIED:20260331T124046Z
UID:2492-1775664000-1775674800@rcfgclub.com
SUMMARY:Poth Road Trap Shoot
DESCRIPTION:
URL:https://rcfgclub.com/event/poth-road-trap-shoot-2/
LOCATION:Richland County Fish and Game Club\, 1360 Poth Rd\, Mansfield\, OH\, 44903\, United States
CATEGORIES:Trap Shoot
END:VEVENT
BEGIN:VEVENT
DTSTART;TZID=America/New_York:20260404T080000
DTEND;TZID=America/New_York:20260404T140000
DTSTAMP:20260422T185001
CREATED:20260220T173922Z
LAST-MODIFIED:20260220T173922Z
UID:2338-1775289600-1775311200@rcfgclub.com
SUMMARY:Richland County Fish and Game Sporting Clays
DESCRIPTION:Sporting clay dates flyer2026
URL:https://rcfgclub.com/event/richland-county-fish-and-game-sporting-clays/
LOCATION:Richland County Fish and Game Club\, 1360 Poth Rd\, Mansfield\, OH\, 44903\, United States
CATEGORIES:Sporting Clays
END:VEVENT
BEGIN:VEVENT
DTSTART;TZID=America/New_York:20260401T193000
DTEND;TZID=America/New_York:20260401T203000
DTSTAMP:20260422T185001
CREATED:20251204T200125Z
LAST-MODIFIED:20251204T200249Z
UID:2079-1775071800-1775075400@rcfgclub.com
SUMMARY:April Membership Meeting
DESCRIPTION:
URL:https://rcfgclub.com/event/april-membership-meeting-2/
LOCATION:Richland County Fish and Game Club\, 1360 Poth Rd\, Mansfield\, OH\, 44903\, United States
CATEGORIES:Membership Meeting
END:VEVENT
BEGIN:VEVENT
DTSTART;TZID=America/New_York:20260401T160000
DTEND;TZID=America/New_York:20260401T190000
DTSTAMP:20260422T185001
CREATED:20260331T124012Z
LAST-MODIFIED:20260331T124012Z
UID:2490-1775059200-1775070000@rcfgclub.com
SUMMARY:Poth Road Trap Shoot
DESCRIPTION:
URL:https://rcfgclub.com/event/poth-road-trap-shoot/
LOCATION:OH
CATEGORIES:Trap Shoot
END:VEVENT
BEGIN:VEVENT
DTSTART;TZID=America/New_York:20260328T080000
DTEND;TZID=America/New_York:20260328T120000
DTSTAMP:20260422T185001
CREATED:20260309T143506Z
LAST-MODIFIED:20260309T143506Z
UID:2406-1774684800-1774699200@rcfgclub.com
SUMMARY:Club Work day
DESCRIPTION:Focus will be getting sporting clay course ready for the 1st shoot.
URL:https://rcfgclub.com/event/club-work-day-8/
LOCATION:Richland County Fish and Game Club\, 1360 Poth Rd\, Mansfield\, OH\, 44903\, United States
CATEGORIES:work day
END:VEVENT
BEGIN:VEVENT
DTSTART;TZID=America/New_York:20260319T193000
DTEND;TZID=America/New_York:20260319T203000
DTSTAMP:20260422T185001
CREATED:20251204T135029Z
LAST-MODIFIED:20251204T135029Z
UID:2077-1773948600-1773952200@rcfgclub.com
SUMMARY:March Board Meeting
DESCRIPTION:
URL:https://rcfgclub.com/event/march-board-meeting-2/
LOCATION:Richland County Fish and Game Club\, 1360 Poth Rd\, Mansfield\, OH\, 44903\, United States
CATEGORIES:Board Meeting
END:VEVENT
BEGIN:VEVENT
DTSTART;TZID=America/New_York:20260307T080000
DTEND;TZID=America/New_York:20260307T180000
DTSTAMP:20260422T185001
CREATED:20260209T164840Z
LAST-MODIFIED:20260209T164840Z
UID:2284-1772870400-1772906400@rcfgclub.com
SUMMARY:The Ohio Hunters Education Course
DESCRIPTION:The Ohio Hunters Education Course is now open for registration. The course is 8-6 Sat March 7th. Lunch is provided. All students need to arrive by 730 to sign in and gather your materials. There are only 30 seats so don’t wait as the class will fill up quickly. All registration is through the Ohio Department of Natural resources  https://oh-web.s3licensing.com/Event/Index
URL:https://rcfgclub.com/event/the-ohio-hunters-education-course/
LOCATION:Richland County Fish and Game Club\, 1360 Poth Rd\, Mansfield\, OH\, 44903\, United States
CATEGORIES:Youth Activity
END:VEVENT
BEGIN:VEVENT
DTSTART;TZID=America/New_York:20260304T193000
DTEND;TZID=America/New_York:20260304T203000
DTSTAMP:20260422T185001
CREATED:20251204T134759Z
LAST-MODIFIED:20251204T134759Z
UID:2075-1772652600-1772656200@rcfgclub.com
SUMMARY:March Membership Meeting
DESCRIPTION:
URL:https://rcfgclub.com/event/march-membership-meeting-2/
LOCATION:Richland County Fish and Game Club\, 1360 Poth Rd\, Mansfield\, OH\, 44903\, United States
CATEGORIES:Membership Meeting
END:VEVENT
BEGIN:VEVENT
DTSTART;TZID=America/New_York:20260228T080000
DTEND;TZID=America/New_York:20260228T140000
DTSTAMP:20260422T185001
CREATED:20260226T173454Z
LAST-MODIFIED:20260319T185939Z
UID:2379-1772265600-1772287200@rcfgclub.com
SUMMARY:Hunters’ Trials Flushing and Pointing Divisions
DESCRIPTION:
URL:https://rcfgclub.com/event/hunters-trials-flushing-and-pointing-divisions-2/
LOCATION:Richland County Fish and Game Club\, 1360 Poth Rd\, Mansfield\, OH\, 44903\, United States
END:VEVENT
BEGIN:VEVENT
DTSTART;TZID=America/New_York:20260225T173000
DTEND;TZID=America/New_York:20260225T193000
DTSTAMP:20260422T185001
CREATED:20251204T134111Z
LAST-MODIFIED:20251204T134111Z
UID:2065-1772040600-1772047800@rcfgclub.com
SUMMARY:Trap Shoot
DESCRIPTION:
URL:https://rcfgclub.com/event/trap-shoot-48/
LOCATION:Richland County Fish and Game Club\, 1360 Poth Rd\, Mansfield\, OH\, 44903\, United States
CATEGORIES:Trap Shoot
END:VEVENT
BEGIN:VEVENT
DTSTART;TZID=America/New_York:20260222T090000
DTEND;TZID=America/New_York:20260222T130000
DTSTAMP:20260422T185001
CREATED:20260217T131420Z
LAST-MODIFIED:20260319T185950Z
UID:2325-1771750800-1771765200@rcfgclub.com
SUMMARY:Women's Pheasant Hunt
DESCRIPTION:
URL:https://rcfgclub.com/event/womens-pheasant-hunt/
LOCATION:Richland County Fish and Game Club\, 1360 Poth Rd\, Mansfield\, OH\, 44903\, United States
CATEGORIES:Club events
END:VEVENT
BEGIN:VEVENT
DTSTART;TZID=America/New_York:20260221T080000
DTEND;TZID=America/New_York:20260221T150000
DTSTAMP:20260422T185001
CREATED:20260217T131840Z
LAST-MODIFIED:20260319T185942Z
UID:2329-1771660800-1771686000@rcfgclub.com
SUMMARY:Hunters' Trials Flushing and Pointing Divisions
DESCRIPTION:Screenshot
URL:https://rcfgclub.com/event/hunters-trials-flushing-and-pointing-divisions/
LOCATION:Richland County Fish and Game Club\, 1360 Poth Rd\, Mansfield\, OH\, 44903\, United States
CATEGORIES:Club events
END:VEVENT
BEGIN:VEVENT
DTSTART;TZID=America/New_York:20260219T193000
DTEND;TZID=America/New_York:20260219T203000
DTSTAMP:20260422T185001
CREATED:20251204T134708Z
LAST-MODIFIED:20251204T134708Z
UID:2073-1771529400-1771533000@rcfgclub.com
SUMMARY:February Board Meeting
DESCRIPTION:
URL:https://rcfgclub.com/event/february-board-meeting-2/
LOCATION:Richland County Fish and Game Club\, 1360 Poth Rd\, Mansfield\, OH\, 44903\, United States
CATEGORIES:Board Meeting
END:VEVENT
BEGIN:VEVENT
DTSTART;TZID=America/New_York:20260218T173000
DTEND;TZID=America/New_York:20260218T193000
DTSTAMP:20260422T185001
CREATED:20251204T134034Z
LAST-MODIFIED:20251204T134034Z
UID:2063-1771435800-1771443000@rcfgclub.com
SUMMARY:Trap Shoot
DESCRIPTION:
URL:https://rcfgclub.com/event/trap-shoot-47/
LOCATION:Richland County Fish and Game Club\, 1360 Poth Rd\, Mansfield\, OH\, 44903\, United States
CATEGORIES:Trap Shoot
END:VEVENT
BEGIN:VEVENT
DTSTART;TZID=America/New_York:20260214T100000
DTEND;TZID=America/New_York:20260214T130000
DTSTAMP:20260422T185001
CREATED:20260209T164330Z
LAST-MODIFIED:20260319T190041Z
UID:2280-1771063200-1771074000@rcfgclub.com
SUMMARY:Club Member Application
DESCRIPTION:
URL:https://rcfgclub.com/event/club-member-application/
LOCATION:Richland County Fish and Game Club\, 1360 Poth Rd\, Mansfield\, OH\, 44903\, United States
END:VEVENT
BEGIN:VEVENT
DTSTART;TZID=America/New_York:20260211T173000
DTEND;TZID=America/New_York:20260211T193000
DTSTAMP:20260422T185001
CREATED:20251204T133957Z
LAST-MODIFIED:20251204T133957Z
UID:2061-1770831000-1770838200@rcfgclub.com
SUMMARY:Trap Shoot
DESCRIPTION:
URL:https://rcfgclub.com/event/trap-shoot-46/
LOCATION:Richland County Fish and Game Club\, 1360 Poth Rd\, Mansfield\, OH\, 44903\, United States
CATEGORIES:Trap Shoot
END:VEVENT
BEGIN:VEVENT
DTSTART;TZID=America/New_York:20260204T193000
DTEND;TZID=America/New_York:20260204T203000
DTSTAMP:20260422T185001
CREATED:20251204T134605Z
LAST-MODIFIED:20251204T134605Z
UID:2071-1770233400-1770237000@rcfgclub.com
SUMMARY:February Membership Meeting
DESCRIPTION:
URL:https://rcfgclub.com/event/february-membership-meeting-2/
LOCATION:Richland County Fish and Game Club\, 1360 Poth Rd\, Mansfield\, OH\, 44903\, United States
CATEGORIES:Membership Meeting
END:VEVENT
BEGIN:VEVENT
DTSTART;TZID=America/New_York:20260204T173000
DTEND;TZID=America/New_York:20260204T193000
DTSTAMP:20260422T185001
CREATED:20251204T133910Z
LAST-MODIFIED:20251204T133910Z
UID:2059-1770226200-1770233400@rcfgclub.com
SUMMARY:Trap Shoot
DESCRIPTION:
URL:https://rcfgclub.com/event/trap-shoot-45/
LOCATION:Richland County Fish and Game Club\, 1360 Poth Rd\, Mansfield\, OH\, 44903\, United States
CATEGORIES:Trap Shoot
END:VEVENT
BEGIN:VEVENT
DTSTART;TZID=America/New_York:20260128T173000
DTEND;TZID=America/New_York:20260128T193000
DTSTAMP:20260422T185001
CREATED:20251204T133819Z
LAST-MODIFIED:20251204T133819Z
UID:2057-1769621400-1769628600@rcfgclub.com
SUMMARY:Trap Shoot
DESCRIPTION:
URL:https://rcfgclub.com/event/trap-shoot-44/
LOCATION:Richland County Fish and Game Club\, 1360 Poth Rd\, Mansfield\, OH\, 44903\, United States
CATEGORIES:Trap Shoot
END:VEVENT
BEGIN:VEVENT
DTSTART;TZID=America/New_York:20260121T173000
DTEND;TZID=America/New_York:20260121T193000
DTSTAMP:20260422T185001
CREATED:20251204T133726Z
LAST-MODIFIED:20251204T133726Z
UID:2055-1769016600-1769023800@rcfgclub.com
SUMMARY:Trap Shoot
DESCRIPTION:
URL:https://rcfgclub.com/event/trap-shoot-43/
LOCATION:Richland County Fish and Game Club\, 1360 Poth Rd\, Mansfield\, OH\, 44903\, United States
CATEGORIES:Trap Shoot
END:VEVENT
BEGIN:VEVENT
DTSTART;TZID=America/New_York:20260115T193000
DTEND;TZID=America/New_York:20260115T203000
DTSTAMP:20260422T185001
CREATED:20251204T134456Z
LAST-MODIFIED:20251204T134456Z
UID:2069-1768505400-1768509000@rcfgclub.com
SUMMARY:January Board Meeting
DESCRIPTION:
URL:https://rcfgclub.com/event/january-board-meeting-2/
LOCATION:OH
CATEGORIES:Board Meeting
END:VEVENT
BEGIN:VEVENT
DTSTART;TZID=America/New_York:20260114T173000
DTEND;TZID=America/New_York:20260114T193000
DTSTAMP:20260422T185001
CREATED:20251204T133646Z
LAST-MODIFIED:20251204T133646Z
UID:2053-1768411800-1768419000@rcfgclub.com
SUMMARY:Trap Shoot
DESCRIPTION:
URL:https://rcfgclub.com/event/trap-shoot-42/
LOCATION:Richland County Fish and Game Club\, 1360 Poth Rd\, Mansfield\, OH\, 44903\, United States
CATEGORIES:Trap Shoot
END:VEVENT
BEGIN:VEVENT
DTSTART;TZID=America/New_York:20260107T193000
DTEND;TZID=America/New_York:20260107T203000
DTSTAMP:20260422T185001
CREATED:20251204T134346Z
LAST-MODIFIED:20251204T134346Z
UID:2067-1767814200-1767817800@rcfgclub.com
SUMMARY:January Membership Meeting
DESCRIPTION:
URL:https://rcfgclub.com/event/january-membership-meeting/
LOCATION:Richland County Fish and Game Club\, 1360 Poth Rd\, Mansfield\, OH\, 44903\, United States
CATEGORIES:Membership Meeting
END:VEVENT
END:VCALENDAR