BEGIN:VCALENDAR
VERSION:2.0
PRODID:-//Richland County Fish and Game Club - ECPv6.15.20//NONSGML v1.0//EN
CALSCALE:GREGORIAN
METHOD:PUBLISH
X-WR-CALNAME:Richland County Fish and Game Club
X-ORIGINAL-URL:https://rcfgclub.com
X-WR-CALDESC:Events for Richland County Fish and Game Club
REFRESH-INTERVAL;VALUE=DURATION:PT1H
X-Robots-Tag:noindex
X-PUBLISHED-TTL:PT1H
BEGIN:VTIMEZONE
TZID:America/New_York
BEGIN:DAYLIGHT
TZOFFSETFROM:-0500
TZOFFSETTO:-0400
TZNAME:EDT
DTSTART:20250309T070000
END:DAYLIGHT
BEGIN:STANDARD
TZOFFSETFROM:-0400
TZOFFSETTO:-0500
TZNAME:EST
DTSTART:20251102T060000
END:STANDARD
BEGIN:DAYLIGHT
TZOFFSETFROM:-0500
TZOFFSETTO:-0400
TZNAME:EDT
DTSTART:20260308T070000
END:DAYLIGHT
BEGIN:STANDARD
TZOFFSETFROM:-0400
TZOFFSETTO:-0500
TZNAME:EST
DTSTART:20261101T060000
END:STANDARD
BEGIN:DAYLIGHT
TZOFFSETFROM:-0500
TZOFFSETTO:-0400
TZNAME:EDT
DTSTART:20270314T070000
END:DAYLIGHT
BEGIN:STANDARD
TZOFFSETFROM:-0400
TZOFFSETTO:-0500
TZNAME:EST
DTSTART:20271107T060000
END:STANDARD
END:VTIMEZONE
BEGIN:VEVENT
DTSTART;TZID=America/New_York:20260513T160000
DTEND;TZID=America/New_York:20260513T190000
DTSTAMP:20260422T183344
CREATED:20260331T124305Z
LAST-MODIFIED:20260331T124305Z
UID:2503-1778688000-1778698800@rcfgclub.com
SUMMARY:Poth Road Trap Shoot
DESCRIPTION:
URL:https://rcfgclub.com/event/poth-road-trap-shoot-7/
LOCATION:Richland County Fish and Game Club\, 1360 Poth Rd\, Mansfield\, OH\, 44903\, United States
CATEGORIES:Trap Shoot
END:VEVENT
BEGIN:VEVENT
DTSTART;TZID=America/New_York:20260517T080000
DTEND;TZID=America/New_York:20260517T140000
DTSTAMP:20260422T183344
CREATED:20260220T174126Z
LAST-MODIFIED:20260220T174126Z
UID:2344-1779004800-1779026400@rcfgclub.com
SUMMARY:Richland County Fish and Game Sporting Clays
DESCRIPTION:Sporting clay dates flyer2026
URL:https://rcfgclub.com/event/richland-county-fish-and-game-sporting-clays-4/
LOCATION:Richland County Fish and Game Club\, 1360 Poth Rd\, Mansfield\, OH\, 44903\, United States
CATEGORIES:Sporting Clays
END:VEVENT
BEGIN:VEVENT
DTSTART;TZID=America/New_York:20260520T160000
DTEND;TZID=America/New_York:20260520T190000
DTSTAMP:20260422T183344
CREATED:20260331T124336Z
LAST-MODIFIED:20260331T124336Z
UID:2505-1779292800-1779303600@rcfgclub.com
SUMMARY:Poth Road Trap Shoot
DESCRIPTION:
URL:https://rcfgclub.com/event/poth-road-trap-shoot-8/
LOCATION:Richland County Fish and Game Club\, 1360 Poth Rd\, Mansfield\, OH\, 44903\, United States
CATEGORIES:Trap Shoot
END:VEVENT
BEGIN:VEVENT
DTSTART;TZID=America/New_York:20260521T193000
DTEND;TZID=America/New_York:20260521T203000
DTSTAMP:20260422T183344
CREATED:20251204T200402Z
LAST-MODIFIED:20251204T200402Z
UID:2086-1779391800-1779395400@rcfgclub.com
SUMMARY:May Board Meeting
DESCRIPTION:
URL:https://rcfgclub.com/event/may-board-meeting-2/
LOCATION:Richland County Fish and Game Club\, 1360 Poth Rd\, Mansfield\, OH\, 44903\, United States
CATEGORIES:Board Meeting
END:VEVENT
BEGIN:VEVENT
DTSTART;TZID=America/New_York:20260527T160000
DTEND;TZID=America/New_York:20260527T190000
DTSTAMP:20260422T183344
CREATED:20260331T124407Z
LAST-MODIFIED:20260331T124407Z
UID:2507-1779897600-1779908400@rcfgclub.com
SUMMARY:Poth Road Trap Shoot
DESCRIPTION:
URL:https://rcfgclub.com/event/poth-road-trap-shoot-9/
LOCATION:Richland County Fish and Game Club\, 1360 Poth Rd\, Mansfield\, OH\, 44903\, United States
CATEGORIES:Trap Shoot
END:VEVENT
BEGIN:VEVENT
DTSTART;TZID=America/New_York:20260530T080000
DTEND;TZID=America/New_York:20260530T120000
DTSTAMP:20260422T183344
CREATED:20260309T143645Z
LAST-MODIFIED:20260309T143645Z
UID:2410-1780128000-1780142400@rcfgclub.com
SUMMARY:Club Work Day
DESCRIPTION:
URL:https://rcfgclub.com/event/club-work-day-10/
LOCATION:Richland County Fish and Game Club\, 1360 Poth Rd\, Mansfield\, OH\, 44903\, United States
CATEGORIES:work day
END:VEVENT
BEGIN:VEVENT
DTSTART;TZID=America/New_York:20260603T160000
DTEND;TZID=America/New_York:20260603T190000
DTSTAMP:20260422T183344
CREATED:20260331T124440Z
LAST-MODIFIED:20260331T124440Z
UID:2509-1780502400-1780513200@rcfgclub.com
SUMMARY:Poth Road Trap Shoot
DESCRIPTION:
URL:https://rcfgclub.com/event/poth-road-trap-shoot-10/
LOCATION:Richland County Fish and Game Club\, 1360 Poth Rd\, Mansfield\, OH\, 44903\, United States
CATEGORIES:Trap Shoot
END:VEVENT
BEGIN:VEVENT
DTSTART;TZID=America/New_York:20260603T193000
DTEND;TZID=America/New_York:20260603T203000
DTSTAMP:20260422T183344
CREATED:20260407T194804Z
LAST-MODIFIED:20260407T194804Z
UID:2544-1780515000-1780518600@rcfgclub.com
SUMMARY:June Membership Meeting
DESCRIPTION:
URL:https://rcfgclub.com/event/june-membership-meeting-2/
LOCATION:Richland County Fish and Game Club\, 1360 Poth Rd\, Mansfield\, OH\, 44903\, United States
CATEGORIES:Membership Meeting
END:VEVENT
BEGIN:VEVENT
DTSTART;TZID=America/New_York:20260606T080000
DTEND;TZID=America/New_York:20260606T140000
DTSTAMP:20260422T183344
CREATED:20260220T174616Z
LAST-MODIFIED:20260220T174616Z
UID:2346-1780732800-1780754400@rcfgclub.com
SUMMARY:Richland County Fish and Game Sporting Clays
DESCRIPTION:Sporting clay dates flyer2026
URL:https://rcfgclub.com/event/richland-county-fish-and-game-sporting-clays-5/
LOCATION:Richland County Fish and Game Club\, 1360 Poth Rd\, Mansfield\, OH\, 44903\, United States
CATEGORIES:Sporting Clays
END:VEVENT
BEGIN:VEVENT
DTSTART;TZID=America/New_York:20260610T160000
DTEND;TZID=America/New_York:20260610T190000
DTSTAMP:20260422T183344
CREATED:20260331T124505Z
LAST-MODIFIED:20260331T124505Z
UID:2511-1781107200-1781118000@rcfgclub.com
SUMMARY:Poth Road Trap Shoot
DESCRIPTION:
URL:https://rcfgclub.com/event/poth-road-trap-shoot-11/
LOCATION:Richland County Fish and Game Club\, 1360 Poth Rd\, Mansfield\, OH\, 44903\, United States
CATEGORIES:Trap Shoot
END:VEVENT
BEGIN:VEVENT
DTSTART;TZID=America/New_York:20260617T160000
DTEND;TZID=America/New_York:20260617T190000
DTSTAMP:20260422T183344
CREATED:20260331T124529Z
LAST-MODIFIED:20260331T124529Z
UID:2513-1781712000-1781722800@rcfgclub.com
SUMMARY:Poth Road Trap Shoot
DESCRIPTION:
URL:https://rcfgclub.com/event/poth-road-trap-shoot-12/
LOCATION:Richland County Fish and Game Club\, 1360 Poth Rd\, Mansfield\, OH\, 44903\, United States
CATEGORIES:Trap Shoot
END:VEVENT
BEGIN:VEVENT
DTSTART;TZID=America/New_York:20260618T073000
DTEND;TZID=America/New_York:20260618T203000
DTSTAMP:20260422T183344
CREATED:20260407T194255Z
LAST-MODIFIED:20260407T194255Z
UID:2530-1781767800-1781814600@rcfgclub.com
SUMMARY:June Board Meeting
DESCRIPTION:
URL:https://rcfgclub.com/event/june-board-meeting-2/
LOCATION:Richland County Fish and Game Club\, 1360 Poth Rd\, Mansfield\, OH\, 44903\, United States
CATEGORIES:Board Meeting
END:VEVENT
BEGIN:VEVENT
DTSTART;TZID=America/New_York:20260621T080000
DTEND;TZID=America/New_York:20260621T170000
DTSTAMP:20260422T183344
CREATED:20260220T174643Z
LAST-MODIFIED:20260220T174643Z
UID:2348-1782028800-1782061200@rcfgclub.com
SUMMARY:Richland County Fish and Game Sporting Clays
DESCRIPTION:Sporting clay dates flyer2026
URL:https://rcfgclub.com/event/richland-county-fish-and-game-sporting-clays-6/
LOCATION:Richland County Fish and Game Club\, 1360 Poth Rd\, Mansfield\, OH\, 44903\, United States
CATEGORIES:Sporting Clays
END:VEVENT
BEGIN:VEVENT
DTSTART;TZID=America/New_York:20260624T160000
DTEND;TZID=America/New_York:20260624T190000
DTSTAMP:20260422T183344
CREATED:20260331T124553Z
LAST-MODIFIED:20260331T124553Z
UID:2515-1782316800-1782327600@rcfgclub.com
SUMMARY:Poth Road Trap Shoot
DESCRIPTION:
URL:https://rcfgclub.com/event/poth-road-trap-shoot-13/
LOCATION:Richland County Fish and Game Club\, 1360 Poth Rd\, Mansfield\, OH\, 44903\, United States
CATEGORIES:Trap Shoot
END:VEVENT
BEGIN:VEVENT
DTSTART;TZID=America/New_York:20260627T080000
DTEND;TZID=America/New_York:20260627T120000
DTSTAMP:20260422T183344
CREATED:20260309T143744Z
LAST-MODIFIED:20260309T143744Z
UID:2412-1782547200-1782561600@rcfgclub.com
SUMMARY:Club Work Day
DESCRIPTION:
URL:https://rcfgclub.com/event/club-work-day-11/
LOCATION:Richland County Fish and Game Club\, 1360 Poth Rd\, Mansfield\, OH\, 44903\, United States
CATEGORIES:work day
END:VEVENT
BEGIN:VEVENT
DTSTART;TZID=America/New_York:20260701T160000
DTEND;TZID=America/New_York:20260701T190000
DTSTAMP:20260422T183344
CREATED:20260407T195711Z
LAST-MODIFIED:20260407T195711Z
UID:2559-1782921600-1782932400@rcfgclub.com
SUMMARY:Poth Road Trap Shoot
DESCRIPTION:
URL:https://rcfgclub.com/event/poth-road-trap-shoot-14/
LOCATION:Richland County Fish and Game Club\, 1360 Poth Rd\, Mansfield\, OH\, 44903\, United States
CATEGORIES:Trap Shoot
END:VEVENT
BEGIN:VEVENT
DTSTART;TZID=America/New_York:20260701T193000
DTEND;TZID=America/New_York:20260701T203000
DTSTAMP:20260422T183344
CREATED:20260407T194847Z
LAST-MODIFIED:20260407T194847Z
UID:2546-1782934200-1782937800@rcfgclub.com
SUMMARY:July Membership Meeting
DESCRIPTION:
URL:https://rcfgclub.com/event/july-membership-meeting-2/
LOCATION:Richland County Fish and Game Club\, 1360 Poth Rd\, Mansfield\, OH\, 44903\, United States
CATEGORIES:Membership Meeting
END:VEVENT
BEGIN:VEVENT
DTSTART;TZID=America/New_York:20260708T160000
DTEND;TZID=America/New_York:20260708T190000
DTSTAMP:20260422T183344
CREATED:20260407T195743Z
LAST-MODIFIED:20260407T195743Z
UID:2561-1783526400-1783537200@rcfgclub.com
SUMMARY:Poth Road Trap Shoot
DESCRIPTION:
URL:https://rcfgclub.com/event/poth-road-trap-shoot-15/
LOCATION:Richland County Fish and Game Club\, 1360 Poth Rd\, Mansfield\, OH\, 44903\, United States
CATEGORIES:Trap Shoot
END:VEVENT
BEGIN:VEVENT
DTSTART;TZID=America/New_York:20260711T080000
DTEND;TZID=America/New_York:20260711T140000
DTSTAMP:20260422T183344
CREATED:20260220T174722Z
LAST-MODIFIED:20260220T174722Z
UID:2350-1783756800-1783778400@rcfgclub.com
SUMMARY:Richland County Fish and Game Sporting Clays
DESCRIPTION:Sporting clay dates flyer2026
URL:https://rcfgclub.com/event/richland-county-fish-and-game-sporting-clays-7/
LOCATION:Richland County Fish and Game Club\, 1360 Poth Rd\, Mansfield\, OH\, 44903\, United States
CATEGORIES:Sporting Clays
END:VEVENT
BEGIN:VEVENT
DTSTART;TZID=America/New_York:20260715T160000
DTEND;TZID=America/New_York:20260715T190000
DTSTAMP:20260422T183344
CREATED:20260407T195820Z
LAST-MODIFIED:20260407T195820Z
UID:2563-1784131200-1784142000@rcfgclub.com
SUMMARY:Poth Road Trap Shoot
DESCRIPTION:
URL:https://rcfgclub.com/event/poth-road-trap-shoot-16/
LOCATION:Richland County Fish and Game Club\, 1360 Poth Rd\, Mansfield\, OH\, 44903\, United States
CATEGORIES:Trap Shoot
END:VEVENT
BEGIN:VEVENT
DTSTART;TZID=America/New_York:20260716T193000
DTEND;TZID=America/New_York:20260716T203000
DTSTAMP:20260422T183344
CREATED:20260407T194335Z
LAST-MODIFIED:20260407T194335Z
UID:2532-1784230200-1784233800@rcfgclub.com
SUMMARY:July Board Meeting
DESCRIPTION:
URL:https://rcfgclub.com/event/july-board-meeting-2/
LOCATION:Richland County Fish and Game Club\, 1360 Poth Rd\, Mansfield\, OH\, 44903\, United States
CATEGORIES:Board Meeting
END:VEVENT
BEGIN:VEVENT
DTSTART;TZID=America/New_York:20260719T080000
DTEND;TZID=America/New_York:20260719T140000
DTSTAMP:20260422T183344
CREATED:20260220T174750Z
LAST-MODIFIED:20260220T174750Z
UID:2352-1784448000-1784469600@rcfgclub.com
SUMMARY:Richland County Fish and Game Sporting Clays
DESCRIPTION:Sporting clay dates flyer2026
URL:https://rcfgclub.com/event/richland-county-fish-and-game-sporting-clays-8/
LOCATION:Richland County Fish and Game Club\, 1360 Poth Rd\, Mansfield\, OH\, 44903\, United States
CATEGORIES:Sporting Clays
END:VEVENT
BEGIN:VEVENT
DTSTART;TZID=America/New_York:20260722T160000
DTEND;TZID=America/New_York:20260722T190000
DTSTAMP:20260422T183344
CREATED:20260407T195847Z
LAST-MODIFIED:20260407T195847Z
UID:2565-1784736000-1784746800@rcfgclub.com
SUMMARY:Poth Road Trap Shoot
DESCRIPTION:
URL:https://rcfgclub.com/event/poth-road-trap-shoot-17/
LOCATION:Richland County Fish and Game Club\, 1360 Poth Rd\, Mansfield\, OH\, 44903\, United States
CATEGORIES:Trap Shoot
END:VEVENT
BEGIN:VEVENT
DTSTART;TZID=America/New_York:20260725T080000
DTEND;TZID=America/New_York:20260725T120000
DTSTAMP:20260422T183344
CREATED:20260309T143923Z
LAST-MODIFIED:20260309T143923Z
UID:2414-1784966400-1784980800@rcfgclub.com
SUMMARY:Club Work Day
DESCRIPTION:
URL:https://rcfgclub.com/event/club-work-day-12/
LOCATION:Richland County Fish and Game Club\, 1360 Poth Rd\, Mansfield\, OH\, 44903\, United States
CATEGORIES:work day
END:VEVENT
BEGIN:VEVENT
DTSTART;TZID=America/New_York:20260729T160000
DTEND;TZID=America/New_York:20260729T190000
DTSTAMP:20260422T183344
CREATED:20260407T195914Z
LAST-MODIFIED:20260407T195914Z
UID:2567-1785340800-1785351600@rcfgclub.com
SUMMARY:Poth Road Trap Shoot
DESCRIPTION:
URL:https://rcfgclub.com/event/poth-road-trap-shoot-18/
LOCATION:Richland County Fish and Game Club\, 1360 Poth Rd\, Mansfield\, OH\, 44903\, United States
CATEGORIES:Trap Shoot
END:VEVENT
BEGIN:VEVENT
DTSTART;TZID=America/New_York:20260801T080000
DTEND;TZID=America/New_York:20260801T140000
DTSTAMP:20260422T183344
CREATED:20260220T174820Z
LAST-MODIFIED:20260220T174820Z
UID:2354-1785571200-1785592800@rcfgclub.com
SUMMARY:Richland County Fish and Game Sporting Clays
DESCRIPTION:Sporting clay dates flyer2026
URL:https://rcfgclub.com/event/richland-county-fish-and-game-sporting-clays-9/
LOCATION:Richland County Fish and Game Club\, 1360 Poth Rd\, Mansfield\, OH\, 44903\, United States
CATEGORIES:Sporting Clays
END:VEVENT
BEGIN:VEVENT
DTSTART;TZID=America/New_York:20260805T160000
DTEND;TZID=America/New_York:20260805T190000
DTSTAMP:20260422T183344
CREATED:20260407T195945Z
LAST-MODIFIED:20260407T195945Z
UID:2569-1785945600-1785956400@rcfgclub.com
SUMMARY:Poth Road Trap Shoot
DESCRIPTION:
URL:https://rcfgclub.com/event/poth-road-trap-shoot-19/
LOCATION:Richland County Fish and Game Club\, 1360 Poth Rd\, Mansfield\, OH\, 44903\, United States
CATEGORIES:Trap Shoot
END:VEVENT
BEGIN:VEVENT
DTSTART;TZID=America/New_York:20260805T193000
DTEND;TZID=America/New_York:20260805T203000
DTSTAMP:20260422T183344
CREATED:20260407T194917Z
LAST-MODIFIED:20260407T194917Z
UID:2548-1785958200-1785961800@rcfgclub.com
SUMMARY:August Membership Meeting
DESCRIPTION:
URL:https://rcfgclub.com/event/august-membership-meeting-2/
LOCATION:Richland County Fish and Game Club\, 1360 Poth Rd\, Mansfield\, OH\, 44903\, United States
CATEGORIES:Membership Meeting
END:VEVENT
BEGIN:VEVENT
DTSTART;TZID=America/New_York:20260812T160000
DTEND;TZID=America/New_York:20260812T190000
DTSTAMP:20260422T183344
CREATED:20260407T200013Z
LAST-MODIFIED:20260407T200013Z
UID:2571-1786550400-1786561200@rcfgclub.com
SUMMARY:Poth Road Trap Shoot
DESCRIPTION:
URL:https://rcfgclub.com/event/poth-road-trap-shoot-20/
LOCATION:Richland County Fish and Game Club\, 1360 Poth Rd\, Mansfield\, OH\, 44903\, United States
CATEGORIES:Trap Shoot
END:VEVENT
BEGIN:VEVENT
DTSTART;TZID=America/New_York:20260816T080000
DTEND;TZID=America/New_York:20260816T140000
DTSTAMP:20260422T183344
CREATED:20260220T174855Z
LAST-MODIFIED:20260220T174855Z
UID:2356-1786867200-1786888800@rcfgclub.com
SUMMARY:Richland County Fish and Game Sporting Clays
DESCRIPTION:Sporting clay dates flyer2026
URL:https://rcfgclub.com/event/richland-county-fish-and-game-sporting-clays-10/
LOCATION:Richland County Fish and Game Club\, 1360 Poth Rd\, Mansfield\, OH\, 44903\, United States
CATEGORIES:Sporting Clays
END:VEVENT
END:VCALENDAR