BEGIN:VCALENDAR
VERSION:2.0
PRODID:-//Richland County Fish and Game Club - ECPv6.15.20//NONSGML v1.0//EN
CALSCALE:GREGORIAN
METHOD:PUBLISH
X-ORIGINAL-URL:https://rcfgclub.com
X-WR-CALDESC:Events for Richland County Fish and Game Club
REFRESH-INTERVAL;VALUE=DURATION:PT1H
X-Robots-Tag:noindex
X-PUBLISHED-TTL:PT1H
BEGIN:VTIMEZONE
TZID:America/New_York
BEGIN:DAYLIGHT
TZOFFSETFROM:-0500
TZOFFSETTO:-0400
TZNAME:EDT
DTSTART:20250309T070000
END:DAYLIGHT
BEGIN:STANDARD
TZOFFSETFROM:-0400
TZOFFSETTO:-0500
TZNAME:EST
DTSTART:20251102T060000
END:STANDARD
BEGIN:DAYLIGHT
TZOFFSETFROM:-0500
TZOFFSETTO:-0400
TZNAME:EDT
DTSTART:20260308T070000
END:DAYLIGHT
BEGIN:STANDARD
TZOFFSETFROM:-0400
TZOFFSETTO:-0500
TZNAME:EST
DTSTART:20261101T060000
END:STANDARD
BEGIN:DAYLIGHT
TZOFFSETFROM:-0500
TZOFFSETTO:-0400
TZNAME:EDT
DTSTART:20270314T070000
END:DAYLIGHT
BEGIN:STANDARD
TZOFFSETFROM:-0400
TZOFFSETTO:-0500
TZNAME:EST
DTSTART:20271107T060000
END:STANDARD
END:VTIMEZONE
BEGIN:VEVENT
DTSTART;TZID=America/New_York:20260715T160000
DTEND;TZID=America/New_York:20260715T190000
DTSTAMP:20260422T185214
CREATED:20260407T195820Z
LAST-MODIFIED:20260407T195820Z
UID:2563-1784131200-1784142000@rcfgclub.com
SUMMARY:Poth Road Trap Shoot
DESCRIPTION:
URL:https://rcfgclub.com/event/poth-road-trap-shoot-16/
LOCATION:Richland County Fish and Game Club\, 1360 Poth Rd\, Mansfield\, OH\, 44903\, United States
CATEGORIES:Trap Shoot
END:VEVENT
BEGIN:VEVENT
DTSTART;TZID=America/New_York:20260716T193000
DTEND;TZID=America/New_York:20260716T203000
DTSTAMP:20260422T185214
CREATED:20260407T194335Z
LAST-MODIFIED:20260407T194335Z
UID:2532-1784230200-1784233800@rcfgclub.com
SUMMARY:July Board Meeting
DESCRIPTION:
URL:https://rcfgclub.com/event/july-board-meeting-2/
LOCATION:Richland County Fish and Game Club\, 1360 Poth Rd\, Mansfield\, OH\, 44903\, United States
CATEGORIES:Board Meeting
END:VEVENT
BEGIN:VEVENT
DTSTART;TZID=America/New_York:20260719T080000
DTEND;TZID=America/New_York:20260719T140000
DTSTAMP:20260422T185214
CREATED:20260220T174750Z
LAST-MODIFIED:20260220T174750Z
UID:2352-1784448000-1784469600@rcfgclub.com
SUMMARY:Richland County Fish and Game Sporting Clays
DESCRIPTION:Sporting clay dates flyer2026
URL:https://rcfgclub.com/event/richland-county-fish-and-game-sporting-clays-8/
LOCATION:Richland County Fish and Game Club\, 1360 Poth Rd\, Mansfield\, OH\, 44903\, United States
CATEGORIES:Sporting Clays
END:VEVENT
BEGIN:VEVENT
DTSTART;TZID=America/New_York:20260722T160000
DTEND;TZID=America/New_York:20260722T190000
DTSTAMP:20260422T185214
CREATED:20260407T195847Z
LAST-MODIFIED:20260407T195847Z
UID:2565-1784736000-1784746800@rcfgclub.com
SUMMARY:Poth Road Trap Shoot
DESCRIPTION:
URL:https://rcfgclub.com/event/poth-road-trap-shoot-17/
LOCATION:Richland County Fish and Game Club\, 1360 Poth Rd\, Mansfield\, OH\, 44903\, United States
CATEGORIES:Trap Shoot
END:VEVENT
BEGIN:VEVENT
DTSTART;TZID=America/New_York:20260725T080000
DTEND;TZID=America/New_York:20260725T120000
DTSTAMP:20260422T185214
CREATED:20260309T143923Z
LAST-MODIFIED:20260309T143923Z
UID:2414-1784966400-1784980800@rcfgclub.com
SUMMARY:Club Work Day
DESCRIPTION:
URL:https://rcfgclub.com/event/club-work-day-12/
LOCATION:Richland County Fish and Game Club\, 1360 Poth Rd\, Mansfield\, OH\, 44903\, United States
CATEGORIES:work day
END:VEVENT
BEGIN:VEVENT
DTSTART;TZID=America/New_York:20260729T160000
DTEND;TZID=America/New_York:20260729T190000
DTSTAMP:20260422T185214
CREATED:20260407T195914Z
LAST-MODIFIED:20260407T195914Z
UID:2567-1785340800-1785351600@rcfgclub.com
SUMMARY:Poth Road Trap Shoot
DESCRIPTION:
URL:https://rcfgclub.com/event/poth-road-trap-shoot-18/
LOCATION:Richland County Fish and Game Club\, 1360 Poth Rd\, Mansfield\, OH\, 44903\, United States
CATEGORIES:Trap Shoot
END:VEVENT
BEGIN:VEVENT
DTSTART;TZID=America/New_York:20260801T080000
DTEND;TZID=America/New_York:20260801T140000
DTSTAMP:20260422T185214
CREATED:20260220T174820Z
LAST-MODIFIED:20260220T174820Z
UID:2354-1785571200-1785592800@rcfgclub.com
SUMMARY:Richland County Fish and Game Sporting Clays
DESCRIPTION:Sporting clay dates flyer2026
URL:https://rcfgclub.com/event/richland-county-fish-and-game-sporting-clays-9/
LOCATION:Richland County Fish and Game Club\, 1360 Poth Rd\, Mansfield\, OH\, 44903\, United States
CATEGORIES:Sporting Clays
END:VEVENT
BEGIN:VEVENT
DTSTART;TZID=America/New_York:20260805T160000
DTEND;TZID=America/New_York:20260805T190000
DTSTAMP:20260422T185214
CREATED:20260407T195945Z
LAST-MODIFIED:20260407T195945Z
UID:2569-1785945600-1785956400@rcfgclub.com
SUMMARY:Poth Road Trap Shoot
DESCRIPTION:
URL:https://rcfgclub.com/event/poth-road-trap-shoot-19/
LOCATION:Richland County Fish and Game Club\, 1360 Poth Rd\, Mansfield\, OH\, 44903\, United States
CATEGORIES:Trap Shoot
END:VEVENT
BEGIN:VEVENT
DTSTART;TZID=America/New_York:20260805T193000
DTEND;TZID=America/New_York:20260805T203000
DTSTAMP:20260422T185214
CREATED:20260407T194917Z
LAST-MODIFIED:20260407T194917Z
UID:2548-1785958200-1785961800@rcfgclub.com
SUMMARY:August Membership Meeting
DESCRIPTION:
URL:https://rcfgclub.com/event/august-membership-meeting-2/
LOCATION:Richland County Fish and Game Club\, 1360 Poth Rd\, Mansfield\, OH\, 44903\, United States
CATEGORIES:Membership Meeting
END:VEVENT
BEGIN:VEVENT
DTSTART;TZID=America/New_York:20260812T160000
DTEND;TZID=America/New_York:20260812T190000
DTSTAMP:20260422T185214
CREATED:20260407T200013Z
LAST-MODIFIED:20260407T200013Z
UID:2571-1786550400-1786561200@rcfgclub.com
SUMMARY:Poth Road Trap Shoot
DESCRIPTION:
URL:https://rcfgclub.com/event/poth-road-trap-shoot-20/
LOCATION:Richland County Fish and Game Club\, 1360 Poth Rd\, Mansfield\, OH\, 44903\, United States
CATEGORIES:Trap Shoot
END:VEVENT
BEGIN:VEVENT
DTSTART;TZID=America/New_York:20260816T080000
DTEND;TZID=America/New_York:20260816T140000
DTSTAMP:20260422T185214
CREATED:20260220T174855Z
LAST-MODIFIED:20260220T174855Z
UID:2356-1786867200-1786888800@rcfgclub.com
SUMMARY:Richland County Fish and Game Sporting Clays
DESCRIPTION:Sporting clay dates flyer2026
URL:https://rcfgclub.com/event/richland-county-fish-and-game-sporting-clays-10/
LOCATION:Richland County Fish and Game Club\, 1360 Poth Rd\, Mansfield\, OH\, 44903\, United States
CATEGORIES:Sporting Clays
END:VEVENT
BEGIN:VEVENT
DTSTART;TZID=America/New_York:20260819T160000
DTEND;TZID=America/New_York:20260819T190000
DTSTAMP:20260422T185214
CREATED:20260407T200036Z
LAST-MODIFIED:20260407T200036Z
UID:2573-1787155200-1787166000@rcfgclub.com
SUMMARY:Poth Road Trap Shoot
DESCRIPTION:
URL:https://rcfgclub.com/event/poth-road-trap-shoot-21/
LOCATION:Richland County Fish and Game Club\, 1360 Poth Rd\, Mansfield\, OH\, 44903\, United States
CATEGORIES:Trap Shoot
END:VEVENT
BEGIN:VEVENT
DTSTART;TZID=America/New_York:20260820T193000
DTEND;TZID=America/New_York:20260820T203000
DTSTAMP:20260422T185214
CREATED:20260407T194412Z
LAST-MODIFIED:20260407T194412Z
UID:2534-1787254200-1787257800@rcfgclub.com
SUMMARY:August Board Meeting
DESCRIPTION:
URL:https://rcfgclub.com/event/august-board-meeting-3/
LOCATION:Richland County Fish and Game Club\, 1360 Poth Rd\, Mansfield\, OH\, 44903\, United States
CATEGORIES:Board Meeting
END:VEVENT
BEGIN:VEVENT
DTSTART;TZID=America/New_York:20260826T160000
DTEND;TZID=America/New_York:20260826T190000
DTSTAMP:20260422T185214
CREATED:20260407T200130Z
LAST-MODIFIED:20260407T200130Z
UID:2575-1787760000-1787770800@rcfgclub.com
SUMMARY:Poth Road Trap Shoot
DESCRIPTION:
URL:https://rcfgclub.com/event/poth-road-trap-shoot-22/
LOCATION:Richland County Fish and Game Club\, 1360 Poth Rd\, Mansfield\, OH\, 44903\, United States
CATEGORIES:Trap Shoot
END:VEVENT
BEGIN:VEVENT
DTSTART;TZID=America/New_York:20260829T080000
DTEND;TZID=America/New_York:20260829T120000
DTSTAMP:20260422T185214
CREATED:20260309T143958Z
LAST-MODIFIED:20260309T143958Z
UID:2416-1787990400-1788004800@rcfgclub.com
SUMMARY:Club Work Day
DESCRIPTION:
URL:https://rcfgclub.com/event/club-work-day-13/
LOCATION:Richland County Fish and Game Club\, 1360 Poth Rd\, Mansfield\, OH\, 44903\, United States
CATEGORIES:work day
END:VEVENT
BEGIN:VEVENT
DTSTART;TZID=America/New_York:20260902T160000
DTEND;TZID=America/New_York:20260902T190000
DTSTAMP:20260422T185214
CREATED:20260407T200205Z
LAST-MODIFIED:20260407T200205Z
UID:2577-1788364800-1788375600@rcfgclub.com
SUMMARY:Poth Road Trap Shoot
DESCRIPTION:
URL:https://rcfgclub.com/event/poth-road-trap-shoot-23/
LOCATION:Richland County Fish and Game Club\, 1360 Poth Rd\, Mansfield\, OH\, 44903\, United States
CATEGORIES:Trap Shoot
END:VEVENT
BEGIN:VEVENT
DTSTART;TZID=America/New_York:20260902T193000
DTEND;TZID=America/New_York:20260902T203000
DTSTAMP:20260422T185214
CREATED:20260407T194956Z
LAST-MODIFIED:20260407T194956Z
UID:2550-1788377400-1788381000@rcfgclub.com
SUMMARY:September Membership Meeting
DESCRIPTION:
URL:https://rcfgclub.com/event/september-membership-meeting-2/
LOCATION:Richland County Fish and Game Club\, 1360 Poth Rd\, Mansfield\, OH\, 44903\, United States
CATEGORIES:Membership Meeting
END:VEVENT
BEGIN:VEVENT
DTSTART;TZID=America/New_York:20260905T080000
DTEND;TZID=America/New_York:20260905T140000
DTSTAMP:20260422T185214
CREATED:20260220T174930Z
LAST-MODIFIED:20260220T174930Z
UID:2358-1788595200-1788616800@rcfgclub.com
SUMMARY:Richland County Fish and Game Sporting Clays
DESCRIPTION:Sporting clay dates flyer2026
URL:https://rcfgclub.com/event/richland-county-fish-and-game-sporting-clays-11/
LOCATION:Richland County Fish and Game Club\, 1360 Poth Rd\, Mansfield\, OH\, 44903\, United States
CATEGORIES:Sporting Clays
END:VEVENT
BEGIN:VEVENT
DTSTART;TZID=America/New_York:20260909T160000
DTEND;TZID=America/New_York:20260909T190000
DTSTAMP:20260422T185214
CREATED:20260407T200253Z
LAST-MODIFIED:20260407T200253Z
UID:2579-1788969600-1788980400@rcfgclub.com
SUMMARY:Poth Road Trap Shoot
DESCRIPTION:
URL:https://rcfgclub.com/event/poth-road-trap-shoot-24/
LOCATION:Richland County Fish and Game Club\, 1360 Poth Rd\, Mansfield\, OH\, 44903\, United States
CATEGORIES:Trap Shoot
END:VEVENT
BEGIN:VEVENT
DTSTART;TZID=America/New_York:20260916T160000
DTEND;TZID=America/New_York:20260916T190000
DTSTAMP:20260422T185214
CREATED:20260407T200318Z
LAST-MODIFIED:20260407T200318Z
UID:2581-1789574400-1789585200@rcfgclub.com
SUMMARY:Poth Road Trap Shoot
DESCRIPTION:
URL:https://rcfgclub.com/event/poth-road-trap-shoot-25/
LOCATION:Richland County Fish and Game Club\, 1360 Poth Rd\, Mansfield\, OH\, 44903\, United States
CATEGORIES:Trap Shoot
END:VEVENT
BEGIN:VEVENT
DTSTART;TZID=America/New_York:20260917T193000
DTEND;TZID=America/New_York:20260917T203000
DTSTAMP:20260422T185214
CREATED:20260407T194500Z
LAST-MODIFIED:20260407T194500Z
UID:2536-1789673400-1789677000@rcfgclub.com
SUMMARY:September Board Meeting
DESCRIPTION:
URL:https://rcfgclub.com/event/september-board-meeting-2/
LOCATION:Richland County Fish and Game Club\, 1360 Poth Rd\, Mansfield\, OH\, 44903\, United States
CATEGORIES:Board Meeting
END:VEVENT
BEGIN:VEVENT
DTSTART;TZID=America/New_York:20260920T080000
DTEND;TZID=America/New_York:20260920T140000
DTSTAMP:20260422T185214
CREATED:20260220T175002Z
LAST-MODIFIED:20260220T175002Z
UID:2360-1789891200-1789912800@rcfgclub.com
SUMMARY:Richland County Fish and Game Sporting Clays
DESCRIPTION:Sporting clay dates flyer2026
URL:https://rcfgclub.com/event/richland-county-fish-and-game-sporting-clays-12/
LOCATION:Richland County Fish and Game Club\, 1360 Poth Rd\, Mansfield\, OH\, 44903\, United States
CATEGORIES:Sporting Clays
END:VEVENT
BEGIN:VEVENT
DTSTART;TZID=America/New_York:20260923T160000
DTEND;TZID=America/New_York:20260923T190000
DTSTAMP:20260422T185214
CREATED:20260407T200346Z
LAST-MODIFIED:20260407T200346Z
UID:2583-1790179200-1790190000@rcfgclub.com
SUMMARY:Poth Road Trap Shoot
DESCRIPTION:
URL:https://rcfgclub.com/event/poth-road-trap-shoot-26/
LOCATION:Richland County Fish and Game Club\, 1360 Poth Rd\, Mansfield\, OH\, 44903\, United States
CATEGORIES:Trap Shoot
END:VEVENT
BEGIN:VEVENT
DTSTART;TZID=America/New_York:20260926T080000
DTEND;TZID=America/New_York:20260926T120000
DTSTAMP:20260422T185214
CREATED:20260309T144049Z
LAST-MODIFIED:20260309T144049Z
UID:2418-1790409600-1790424000@rcfgclub.com
SUMMARY:Club Work Day
DESCRIPTION:
URL:https://rcfgclub.com/event/club-work-day-14/
LOCATION:Richland County Fish and Game Club\, 1360 Poth Rd\, Mansfield\, OH\, 44903\, United States
CATEGORIES:work day
END:VEVENT
BEGIN:VEVENT
DTSTART;TZID=America/New_York:20260930T160000
DTEND;TZID=America/New_York:20260930T190000
DTSTAMP:20260422T185214
CREATED:20260407T200424Z
LAST-MODIFIED:20260407T200424Z
UID:2585-1790784000-1790794800@rcfgclub.com
SUMMARY:Poth Road Trap Shoot
DESCRIPTION:
URL:https://rcfgclub.com/event/poth-road-trap-shoot-27/
LOCATION:Richland County Fish and Game Club\, 1360 Poth Rd\, Mansfield\, OH\, 44903\, United States
CATEGORIES:Trap Shoot
END:VEVENT
BEGIN:VEVENT
DTSTART;TZID=America/New_York:20261007T160000
DTEND;TZID=America/New_York:20261007T190000
DTSTAMP:20260422T185214
CREATED:20260407T200614Z
LAST-MODIFIED:20260407T200614Z
UID:2587-1791388800-1791399600@rcfgclub.com
SUMMARY:Poth Road Trap Shoot
DESCRIPTION:
URL:https://rcfgclub.com/event/poth-road-trap-shoot-28/
LOCATION:Richland County Fish and Game Club\, 1360 Poth Rd\, Mansfield\, OH\, 44903\, United States
CATEGORIES:Trap Shoot
END:VEVENT
BEGIN:VEVENT
DTSTART;TZID=America/New_York:20261007T193000
DTEND;TZID=America/New_York:20261007T203000
DTSTAMP:20260422T185214
CREATED:20260407T195028Z
LAST-MODIFIED:20260407T195028Z
UID:2552-1791401400-1791405000@rcfgclub.com
SUMMARY:October Membership Meeting
DESCRIPTION:
URL:https://rcfgclub.com/event/october-membership-meeting-2/
LOCATION:Richland County Fish and Game Club\, 1360 Poth Rd\, Mansfield\, OH\, 44903\, United States
CATEGORIES:Membership Meeting
END:VEVENT
BEGIN:VEVENT
DTSTART;TZID=America/New_York:20261014T160000
DTEND;TZID=America/New_York:20261014T190000
DTSTAMP:20260422T185214
CREATED:20260407T200644Z
LAST-MODIFIED:20260407T200644Z
UID:2589-1791993600-1792004400@rcfgclub.com
SUMMARY:Poth Road Trap Shoot
DESCRIPTION:
URL:https://rcfgclub.com/event/poth-road-trap-shoot-29/
LOCATION:Richland County Fish and Game Club\, 1360 Poth Rd\, Mansfield\, OH\, 44903\, United States
CATEGORIES:Trap Shoot
END:VEVENT
BEGIN:VEVENT
DTSTART;TZID=America/New_York:20261015T193000
DTEND;TZID=America/New_York:20261015T203000
DTSTAMP:20260422T185214
CREATED:20260407T194539Z
LAST-MODIFIED:20260407T194539Z
UID:2538-1792092600-1792096200@rcfgclub.com
SUMMARY:October Board Meeting
DESCRIPTION:
URL:https://rcfgclub.com/event/october-board-meeting-2/
LOCATION:Richland County Fish and Game Club\, 1360 Poth Rd\, Mansfield\, OH\, 44903\, United States
CATEGORIES:Board Meeting
END:VEVENT
BEGIN:VEVENT
DTSTART;TZID=America/New_York:20261021T160000
DTEND;TZID=America/New_York:20261021T190000
DTSTAMP:20260422T185214
CREATED:20260407T200713Z
LAST-MODIFIED:20260407T200713Z
UID:2591-1792598400-1792609200@rcfgclub.com
SUMMARY:Poth Road Trap Shoot
DESCRIPTION:
URL:https://rcfgclub.com/event/poth-road-trap-shoot-30/
LOCATION:Richland County Fish and Game Club\, 1360 Poth Rd\, Mansfield\, OH\, 44903\, United States
CATEGORIES:Trap Shoot
END:VEVENT
END:VCALENDAR